BEGIN:VCALENDAR
VERSION:2.0
PRODID:-//Ballarat Regional Multicultural Council - ECPv4.9.13//NONSGML v1.0//EN
CALSCALE:GREGORIAN
METHOD:PUBLISH
X-WR-CALNAME:Ballarat Regional Multicultural Council
X-ORIGINAL-URL:https://www.brmc.org.au
X-WR-CALDESC:Events for Ballarat Regional Multicultural Council
BEGIN:VTIMEZONE
TZID:Europe/Paris
BEGIN:DAYLIGHT
TZOFFSETFROM:+0100
TZOFFSETTO:+0200
TZNAME:CEST
DTSTART:20210328T010000
END:DAYLIGHT
BEGIN:STANDARD
TZOFFSETFROM:+0200
TZOFFSETTO:+0100
TZNAME:CET
DTSTART:20211031T010000
END:STANDARD
END:VTIMEZONE
BEGIN:VEVENT
DTSTART;TZID=Europe/Paris:20210912T140000
DTEND;TZID=Europe/Paris:20210912T160000
DTSTAMP:20260425T104143
CREATED:20210810T043220Z
LAST-MODIFIED:20210910T063336Z
UID:4349-1631455200-1631462400@www.brmc.org.au
SUMMARY:[POSTPONED] 2021 Interfaith Forum
DESCRIPTION:This event has been postponed.\nDeath\, Sanctity of the Human Body and Organ Donation. \nOrganised by Ballarat Interfaith Network. \nTo register attendance call 0400 650 234. \n
URL:https://www.brmc.org.au/event/2021-interfaith-forum/
LOCATION:St Patrick’s Cathedral\, 3 Lyons St S\, Ballarat\, Victoria\, 3350\, Australia
ATTACH;FMTTYPE=image/jpeg:https://www.brmc.org.au/wp-content/uploads/2021/08/2021-09-12-Organ-Donation-Interfaith-Forum.jpg
GEO:-37.5618887;143.8526306
X-APPLE-STRUCTURED-LOCATION;VALUE=URI;X-ADDRESS=St Patrick’s Cathedral 3 Lyons St S Ballarat Victoria 3350 Australia;X-APPLE-RADIUS=500;X-TITLE=3 Lyons St S:geo:143.8526306,-37.5618887
END:VEVENT
END:VCALENDAR