BEGIN:VCALENDAR
VERSION:2.0
PRODID:-//Ballarat Regional Multicultural Council - ECPv4.9.13//NONSGML v1.0//EN
CALSCALE:GREGORIAN
METHOD:PUBLISH
X-WR-CALNAME:Ballarat Regional Multicultural Council
X-ORIGINAL-URL:https://www.brmc.org.au
X-WR-CALDESC:Events for Ballarat Regional Multicultural Council
BEGIN:VTIMEZONE
TZID:Europe/Paris
BEGIN:DAYLIGHT
TZOFFSETFROM:+0100
TZOFFSETTO:+0200
TZNAME:CEST
DTSTART:20220327T010000
END:DAYLIGHT
BEGIN:STANDARD
TZOFFSETFROM:+0200
TZOFFSETTO:+0100
TZNAME:CET
DTSTART:20221030T010000
END:STANDARD
END:VTIMEZONE
BEGIN:VEVENT
DTSTART;TZID=Europe/Paris:20220731T140000
DTEND;TZID=Europe/Paris:20220731T160000
DTSTAMP:20260425T102549
CREATED:20220728T065231Z
LAST-MODIFIED:20220728T065231Z
UID:5105-1659276000-1659283200@www.brmc.org.au
SUMMARY:2022 Interfaith Forum
DESCRIPTION:This Interfaith Forum will discuss Death\, Sanctity of the Human Body and Organ Donation. \nTo register attendance\, call 0400 650 234. \nHeld by Ballarat Interfaith Network. \n
URL:https://www.brmc.org.au/event/2022-interfaith-forum/
LOCATION:St Patrick’s Cathedral\, 3 Lyons St S\, Ballarat\, Victoria\, 3350\, Australia
ATTACH;FMTTYPE=image/png:https://www.brmc.org.au/wp-content/uploads/2022/07/BIN-Interfaith-Forum.png
GEO:-37.5618887;143.8526306
X-APPLE-STRUCTURED-LOCATION;VALUE=URI;X-ADDRESS=St Patrick’s Cathedral 3 Lyons St S Ballarat Victoria 3350 Australia;X-APPLE-RADIUS=500;X-TITLE=3 Lyons St S:geo:143.8526306,-37.5618887
END:VEVENT
END:VCALENDAR