BEGIN:VCALENDAR
VERSION:2.0
PRODID:-//Ballarat Regional Multicultural Council - ECPv4.9.13//NONSGML v1.0//EN
CALSCALE:GREGORIAN
METHOD:PUBLISH
X-WR-CALNAME:Ballarat Regional Multicultural Council
X-ORIGINAL-URL:https://www.brmc.org.au
X-WR-CALDESC:Events for Ballarat Regional Multicultural Council
BEGIN:VTIMEZONE
TZID:Europe/Paris
BEGIN:DAYLIGHT
TZOFFSETFROM:+0100
TZOFFSETTO:+0200
TZNAME:CEST
DTSTART:20220327T010000
END:DAYLIGHT
BEGIN:STANDARD
TZOFFSETFROM:+0200
TZOFFSETTO:+0100
TZNAME:CET
DTSTART:20221030T010000
END:STANDARD
END:VTIMEZONE
BEGIN:VEVENT
DTSTART;TZID=Europe/Paris:20220107T110000
DTEND;TZID=Europe/Paris:20220107T123000
DTSTAMP:20260425T112333
CREATED:20210422T055739Z
LAST-MODIFIED:20210422T055739Z
UID:3940-1641553200-1641558600@www.brmc.org.au
SUMMARY:2022 Miniroos Soccer Program
DESCRIPTION:This program\, in partnership with Football Victoria\, is for young people aged 6-13 (all genders).\nIt’s a great chance to be active\, learn new skills and meet other kids. \nDates: 7 January\, 14 January & 21 January\nTime: 11am – 12.30pm\nVenue: Ballarat Regional Soccer Facility (Morshead Park)\, 900 Pleasant St South\, Redan \nFor more information contact Community Engagement Worker\, Lunorphare: lk.folly@brmc.org.au / 0413 572 541. \n
URL:https://www.brmc.org.au/event/2022-miniroos-soccer-program/2022-01-07/
LOCATION:Ballarat Regional Soccer Facility\, 900 Pleasant Street South\, Redan\, Victoria\, 3350\, Australia
ATTACH;FMTTYPE=image/png:https://www.brmc.org.au/wp-content/uploads/2021/04/January-2022-Miniroos-Soccer-Flyer-e1619071046107.png
ORGANIZER;CN="Ballarat%20Regional%20Multicultural%20Council%20Inc.%20%28BRMC%29":MAILTO:info@brmc.org.au
GEO:-37.5783486;143.8318227
X-APPLE-STRUCTURED-LOCATION;VALUE=URI;X-ADDRESS=Ballarat Regional Soccer Facility 900 Pleasant Street South Redan Victoria 3350 Australia;X-APPLE-RADIUS=500;X-TITLE=900 Pleasant Street South:geo:143.8318227,-37.5783486
END:VEVENT
END:VCALENDAR