BEGIN:VCALENDAR
VERSION:2.0
PRODID:-//Ballarat Regional Multicultural Council - ECPv4.9.13//NONSGML v1.0//EN
CALSCALE:GREGORIAN
METHOD:PUBLISH
X-WR-CALNAME:Ballarat Regional Multicultural Council
X-ORIGINAL-URL:https://www.brmc.org.au
X-WR-CALDESC:Events for Ballarat Regional Multicultural Council
BEGIN:VTIMEZONE
TZID:Europe/Paris
BEGIN:DAYLIGHT
TZOFFSETFROM:+0100
TZOFFSETTO:+0200
TZNAME:CEST
DTSTART:20200329T010000
END:DAYLIGHT
BEGIN:STANDARD
TZOFFSETFROM:+0200
TZOFFSETTO:+0100
TZNAME:CET
DTSTART:20201025T010000
END:STANDARD
END:VTIMEZONE
BEGIN:VEVENT
DTSTART;TZID=Europe/Paris:20200229T110000
DTEND;TZID=Europe/Paris:20200229T150000
DTSTAMP:20200228T154614
CREATED:20200225T041310Z
LAST-MODIFIED:20200225T041310Z
UID:2130-1582974000-1582988400@www.brmc.org.au
SUMMARY:BAA Business Workshop: Starting A Business
DESCRIPTION:Packed with tips\, tools and expert step-by-step guidance\, this workshop held by the Ballarat African Association (BAA) prepares you to give\nyour business the best chance of success. \nRegister: www.eventbrite.com.au/e/start-a-business-workshop-tickets-89921653085 \n
URL:https://www.brmc.org.au/event/baa-business-workshop-starting-a-business/
LOCATION:Ballarat Welcome Centre\, 25-39 Barkly St\, Ballarat\, Victoria\, 3350\, Australia
ATTACH;FMTTYPE=image/jpeg:https://www.brmc.org.au/wp-content/uploads/2020/02/2020-02-29-BAA-Starting-A-Business-e1582603942224.jpg
ORGANIZER;CN="Ballarat%20African%20Association%20%28BAA%29":MAILTO:ballaratafricanassociation@gmail.com.au
GEO:-37.5640498;143.8690385
X-APPLE-STRUCTURED-LOCATION;VALUE=URI;X-ADDRESS=Ballarat Welcome Centre 25-39 Barkly St Ballarat Victoria 3350 Australia;X-APPLE-RADIUS=500;X-TITLE=25-39 Barkly St:geo:143.8690385,-37.5640498
END:VEVENT
END:VCALENDAR