BEGIN:VCALENDAR
VERSION:2.0
PRODID:-//Ballarat Regional Multicultural Council - ECPv4.9.13//NONSGML v1.0//EN
CALSCALE:GREGORIAN
METHOD:PUBLISH
X-WR-CALNAME:Ballarat Regional Multicultural Council
X-ORIGINAL-URL:https://www.brmc.org.au
X-WR-CALDESC:Events for Ballarat Regional Multicultural Council
BEGIN:VTIMEZONE
TZID:Europe/Paris
BEGIN:DAYLIGHT
TZOFFSETFROM:+0100
TZOFFSETTO:+0200
TZNAME:CEST
DTSTART:20190331T010000
END:DAYLIGHT
BEGIN:STANDARD
TZOFFSETFROM:+0200
TZOFFSETTO:+0100
TZNAME:CET
DTSTART:20191027T010000
END:STANDARD
END:VTIMEZONE
BEGIN:VEVENT
DTSTART;TZID=Europe/Paris:20190825T140000
DTEND;TZID=Europe/Paris:20190825T160000
DTSTAMP:20260425T111236
CREATED:20190819T055825Z
LAST-MODIFIED:20190819T055825Z
UID:1536-1566741600-1566748800@www.brmc.org.au
SUMMARY:Beginners Tennis Day!
DESCRIPTION:Come and learn the game in an enjoyable\, social atmosphere.\nWith prizes\, on-court coaching tips and a sausage sizzle too. \n
URL:https://www.brmc.org.au/event/beginners-tennis-day/
LOCATION:Buninyong Tennis Centre\, Forest St\, Buninyong\, Victoria\, 3357\, Australia
ATTACH;FMTTYPE=image/jpeg:https://www.brmc.org.au/wp-content/uploads/2019/08/2019-08-25-Beginners-Flyer.jpg
ORGANIZER;CN="Buninyong%20%26%20District%20Tennis%20Association":MAILTO:apjames@ncable.net.au
GEO:-37.6495411;143.8869229
X-APPLE-STRUCTURED-LOCATION;VALUE=URI;X-ADDRESS=Buninyong Tennis Centre Forest St Buninyong Victoria 3357 Australia;X-APPLE-RADIUS=500;X-TITLE=Forest St:geo:143.8869229,-37.6495411
END:VEVENT
END:VCALENDAR