BEGIN:VCALENDAR
VERSION:2.0
PRODID:-//Ballarat Regional Multicultural Council - ECPv4.9.13//NONSGML v1.0//EN
CALSCALE:GREGORIAN
METHOD:PUBLISH
X-WR-CALNAME:Ballarat Regional Multicultural Council
X-ORIGINAL-URL:https://www.brmc.org.au
X-WR-CALDESC:Events for Ballarat Regional Multicultural Council
BEGIN:VTIMEZONE
TZID:Europe/Paris
BEGIN:DAYLIGHT
TZOFFSETFROM:+0100
TZOFFSETTO:+0200
TZNAME:CEST
DTSTART:20210328T010000
END:DAYLIGHT
BEGIN:STANDARD
TZOFFSETFROM:+0200
TZOFFSETTO:+0100
TZNAME:CET
DTSTART:20211031T010000
END:STANDARD
END:VTIMEZONE
BEGIN:VEVENT
DTSTART;TZID=Europe/Paris:20210821T100000
DTEND;TZID=Europe/Paris:20210821T100000
DTSTAMP:20260425T104010
CREATED:20210810T043701Z
LAST-MODIFIED:20210810T043701Z
UID:4352-1629540000-1629540000@www.brmc.org.au
SUMMARY:BKFA Ponnonam 2021
DESCRIPTION:Hosted by Ballarat Keralites’ Foundation of Australia (BKFA). \n
URL:https://www.brmc.org.au/event/bkfa-ponnonam-2021/
LOCATION:St Patrick’s Cathedral\, 3 Lyons St S\, Ballarat\, Victoria\, 3350\, Australia
ATTACH;FMTTYPE=image/jpeg:https://www.brmc.org.au/wp-content/uploads/2021/08/2021-08-21-Ponnonam-2021.jpg
ORGANIZER;CN="Ballarat%20Keralites%27%20Foundation%20of%20Australia%20%28BKFA%29":MAILTO:helpinghandsbkfa@gmail.com
GEO:-37.5618887;143.8526306
X-APPLE-STRUCTURED-LOCATION;VALUE=URI;X-ADDRESS=St Patrick’s Cathedral 3 Lyons St S Ballarat Victoria 3350 Australia;X-APPLE-RADIUS=500;X-TITLE=3 Lyons St S:geo:143.8526306,-37.5618887
END:VEVENT
END:VCALENDAR