BEGIN:VCALENDAR
VERSION:2.0
PRODID:-//Ballarat Regional Multicultural Council - ECPv4.9.13//NONSGML v1.0//EN
CALSCALE:GREGORIAN
METHOD:PUBLISH
X-WR-CALNAME:Ballarat Regional Multicultural Council
X-ORIGINAL-URL:https://www.brmc.org.au
X-WR-CALDESC:Events for Ballarat Regional Multicultural Council
BEGIN:VTIMEZONE
TZID:Europe/Paris
BEGIN:DAYLIGHT
TZOFFSETFROM:+0100
TZOFFSETTO:+0200
TZNAME:CEST
DTSTART:20190331T010000
END:DAYLIGHT
BEGIN:STANDARD
TZOFFSETFROM:+0200
TZOFFSETTO:+0100
TZNAME:CET
DTSTART:20191027T010000
END:STANDARD
END:VTIMEZONE
BEGIN:VEVENT
DTSTART;TZID=Europe/Paris:20190904T133000
DTEND;TZID=Europe/Paris:20190904T133000
DTSTAMP:20260425T104119
CREATED:20190903T062417Z
LAST-MODIFIED:20190903T062417Z
UID:1578-1567603800-1567603800@www.brmc.org.au
SUMMARY:Catholic Women's League Social Afternoon "God Never Sleeps"
DESCRIPTION:“God Never Sleeps”\nCome along to a Spring afternoon tea and hear John and Margaret Millington OAM\, community workers and refugee advocates who have transformed personal tragedy into work for the community. \nFree entry. Door prizes. All welcome. \nEnquiries: Carmel 0401 175 045 or annekav1234@gmail.com \n
URL:https://www.brmc.org.au/event/catholic-womens-league-social-afternoon-god-never-sleeps/
LOCATION:St Patrick’s Cathedral\, 3 Lyons St S\, Ballarat\, Victoria\, 3350\, Australia
ATTACH;FMTTYPE=image/jpeg:https://www.brmc.org.au/wp-content/uploads/2019/09/2019-09-04-CWL-God-Never-Sleeps.jpg
GEO:-37.5618887;143.8526306
X-APPLE-STRUCTURED-LOCATION;VALUE=URI;X-ADDRESS=St Patrick’s Cathedral 3 Lyons St S Ballarat Victoria 3350 Australia;X-APPLE-RADIUS=500;X-TITLE=3 Lyons St S:geo:143.8526306,-37.5618887
END:VEVENT
END:VCALENDAR