BEGIN:VCALENDAR
VERSION:2.0
PRODID:-//Ballarat Regional Multicultural Council - ECPv4.9.13//NONSGML v1.0//EN
CALSCALE:GREGORIAN
METHOD:PUBLISH
X-WR-CALNAME:Ballarat Regional Multicultural Council
X-ORIGINAL-URL:https://www.brmc.org.au
X-WR-CALDESC:Events for Ballarat Regional Multicultural Council
BEGIN:VTIMEZONE
TZID:Europe/Paris
BEGIN:DAYLIGHT
TZOFFSETFROM:+0100
TZOFFSETTO:+0200
TZNAME:CEST
DTSTART:20210328T010000
END:DAYLIGHT
BEGIN:STANDARD
TZOFFSETFROM:+0200
TZOFFSETTO:+0100
TZNAME:CET
DTSTART:20211031T010000
END:STANDARD
END:VTIMEZONE
BEGIN:VEVENT
DTSTART;TZID=Europe/Paris:20211204T170000
DTEND;TZID=Europe/Paris:20211204T170000
DTSTAMP:20260425T161003
CREATED:20210803T023202Z
LAST-MODIFIED:20210803T023202Z
UID:4316-1638637200-1638637200@www.brmc.org.au
SUMMARY:FAABI Christmas Party
DESCRIPTION:The Filipino/Australian Association of Ballarat Inc. (FAABI) invites you to their Christmas Party. \n
URL:https://www.brmc.org.au/event/faabi-christmas-party/
LOCATION:Sebastopol RSL Hall\, 10 Birdwood Ave\, Sebastopol\, Victoria\, 3356\, Australia
ATTACH;FMTTYPE=image/jpeg:https://www.brmc.org.au/wp-content/uploads/2021/08/2021-12-04-FAABI-Christmas-Party.jpg
ORGANIZER;CN="Filipino%20Australian%20Association%20Of%20Ballarat%20Inc.%20%28FAABI%29":MAILTO:sherlita_hart@hotmail.com
GEO:-37.5974391;143.8399792
X-APPLE-STRUCTURED-LOCATION;VALUE=URI;X-ADDRESS=Sebastopol RSL Hall 10 Birdwood Ave Sebastopol Victoria 3356 Australia;X-APPLE-RADIUS=500;X-TITLE=10 Birdwood Ave:geo:143.8399792,-37.5974391
END:VEVENT
END:VCALENDAR