BEGIN:VCALENDAR
VERSION:2.0
PRODID:-//Ballarat Regional Multicultural Council - ECPv4.9.13//NONSGML v1.0//EN
CALSCALE:GREGORIAN
METHOD:PUBLISH
X-WR-CALNAME:Ballarat Regional Multicultural Council
X-ORIGINAL-URL:https://www.brmc.org.au
X-WR-CALDESC:Events for Ballarat Regional Multicultural Council
BEGIN:VTIMEZONE
TZID:Europe/Paris
BEGIN:DAYLIGHT
TZOFFSETFROM:+0100
TZOFFSETTO:+0200
TZNAME:CEST
DTSTART:20190331T010000
END:DAYLIGHT
BEGIN:STANDARD
TZOFFSETFROM:+0200
TZOFFSETTO:+0100
TZNAME:CET
DTSTART:20191027T010000
END:STANDARD
END:VTIMEZONE
BEGIN:VEVENT
DTSTART;TZID=Europe/Paris:20190402T173000
DTEND;TZID=Europe/Paris:20190402T191500
DTSTAMP:20260425T190441
CREATED:20190320T035143Z
LAST-MODIFIED:20190320T035143Z
UID:1039-1554226200-1554232500@www.brmc.org.au
SUMMARY:Football & Human Rights: The World Game sticking up for players rights
DESCRIPTION:As part of Multicultural Round\, Football Victoria have partnered up with Australian Intercultural Society to bring you a panel discussion exploring Football and Human Rights. \nModerated by Catherine Murphy from ABC sports you will get great insights into the Hakeem Al-Araibi case and more. \nThis is a FREE event. \nYou can register via this link:\nhttps://www.eventbrite.com.au/e/football-human-rights-the-world-game-sticking-up-for-players-rights-registration-58204723896 \n
URL:https://www.brmc.org.au/event/football-human-rights-the-world-game-sticking-up-for-players-rights/
LOCATION:Deakin Downtown\, 727 Collins Street\, Tower 2 Level 12\, Melbourne\, Victoria\, 3008\, Australia
ATTACH;FMTTYPE=image/jpeg:https://www.brmc.org.au/wp-content/uploads/2019/03/Football-Human-Rights-01-e1553053819827.jpg
GEO:-37.8210191;144.9499478
X-APPLE-STRUCTURED-LOCATION;VALUE=URI;X-ADDRESS=Deakin Downtown 727 Collins Street Tower 2 Level 12 Melbourne Victoria 3008 Australia;X-APPLE-RADIUS=500;X-TITLE=727 Collins Street\, Tower 2 Level 12:geo:144.9499478,-37.8210191
END:VEVENT
END:VCALENDAR