BEGIN:VCALENDAR
VERSION:2.0
PRODID:-//Ballarat Regional Multicultural Council - ECPv4.9.13//NONSGML v1.0//EN
CALSCALE:GREGORIAN
METHOD:PUBLISH
X-WR-CALNAME:Ballarat Regional Multicultural Council
X-ORIGINAL-URL:https://www.brmc.org.au
X-WR-CALDESC:Events for Ballarat Regional Multicultural Council
BEGIN:VTIMEZONE
TZID:Europe/Paris
BEGIN:DAYLIGHT
TZOFFSETFROM:+0100
TZOFFSETTO:+0200
TZNAME:CEST
DTSTART:20200329T010000
END:DAYLIGHT
BEGIN:STANDARD
TZOFFSETFROM:+0200
TZOFFSETTO:+0100
TZNAME:CET
DTSTART:20201025T010000
END:STANDARD
END:VTIMEZONE
BEGIN:VEVENT
DTSTART;TZID=Europe/Paris:20200228T100000
DTEND;TZID=Europe/Paris:20200228T140000
DTSTAMP:20200228T154453
CREATED:20200207T030300Z
LAST-MODIFIED:20200214T003430Z
UID:2083-1582884000-1582898400@www.brmc.org.au
SUMMARY:Getting To Work: Session Three
DESCRIPTION:A Workshop Series to equip young people from African backgrounds to find work. \nBrought to you by the Ballarat African Association\, Ballarat Group Training\, Ballarat Neighbourhood Centre\, Ballarat Jobs Victoria Work and Learning Centre\, Ballarat Regional Multicultural Council and the City of Ballarat. \nSession Three\nTopic: Interview Skills \nDescription: Feeling nervous about interviews? Learn tips to build your confidence for the big day. \n\nPreparing for common interview questions\nExploring types of interviews: group\, panel and phone\nHow what you wear\, how you sit and your handshake can get in the way of a good interview\n\nLunch is provided. \n\nSession One\nSession Two\n\nPlease register for each session you plan to attend and state any dietary requirements. \nREGISTER NOW\n  \n
URL:https://www.brmc.org.au/event/getting-to-work-session-three-2020-02-28/
LOCATION:Barkly Square\, 25-39 Barkly St\, Ballarat\, Victoria\, 3350\, Australia
ATTACH;FMTTYPE=image/jpeg:https://www.brmc.org.au/wp-content/uploads/2020/02/2020-02-14-BAA-Employment-Workshops-1-e1581639970935.jpg
ORGANIZER;CN="Ballarat%20African%20Association%20%28BAA%29":MAILTO:ballaratafricanassociation@gmail.com.au
GEO:-37.5640498;143.8690385
X-APPLE-STRUCTURED-LOCATION;VALUE=URI;X-ADDRESS=Barkly Square 25-39 Barkly St Ballarat Victoria 3350 Australia;X-APPLE-RADIUS=500;X-TITLE=25-39 Barkly St:geo:143.8690385,-37.5640498
END:VEVENT
END:VCALENDAR