BEGIN:VCALENDAR
VERSION:2.0
PRODID:-//Ballarat Regional Multicultural Council - ECPv4.9.13//NONSGML v1.0//EN
CALSCALE:GREGORIAN
METHOD:PUBLISH
X-WR-CALNAME:Ballarat Regional Multicultural Council
X-ORIGINAL-URL:https://www.brmc.org.au
X-WR-CALDESC:Events for Ballarat Regional Multicultural Council
BEGIN:VTIMEZONE
TZID:Europe/Paris
BEGIN:DAYLIGHT
TZOFFSETFROM:+0100
TZOFFSETTO:+0200
TZNAME:CEST
DTSTART:20200329T010000
END:DAYLIGHT
BEGIN:STANDARD
TZOFFSETFROM:+0200
TZOFFSETTO:+0100
TZNAME:CET
DTSTART:20201025T010000
END:STANDARD
END:VTIMEZONE
BEGIN:VEVENT
DTSTART;TZID=Europe/Paris:20200221T100000
DTEND;TZID=Europe/Paris:20200221T140000
DTSTAMP:20260425T225527
CREATED:20200207T030300Z
LAST-MODIFIED:20200214T003326Z
UID:2082-1582279200-1582293600@www.brmc.org.au
SUMMARY:Getting To Work: Session Two
DESCRIPTION:A Workshop Series to equip young people from African backgrounds to find work. \nBrought to you by the Ballarat African Association\, Ballarat Group Training\, Ballarat Neighbourhood Centre\, Ballarat Jobs Victoria Work and Learning Centre\, Ballarat Regional Multicultural Council and the City of Ballarat. \nSession Two\nTopic: Exploring Employment Pathways \nDescription: Connect with employers and find out what they are REALLY looking for. \n\nHow to stand out for the RIGHT reasons\nHow to gain work experience\nIndustry panel\n\nLunch is provided. \n\nSession One\nSession Three\n\nPlease register for each session you plan to attend and state any dietary requirements. \nREGISTER NOW\n  \n
URL:https://www.brmc.org.au/event/getting-to-work-session-two-2020-02-21/
LOCATION:Ballarat Library\, 178 Doveton St N\, Ballarat\, Victoria\, 3353\, Australia
ATTACH;FMTTYPE=image/jpeg:https://www.brmc.org.au/wp-content/uploads/2020/02/2020-02-14-BAA-Employment-Workshops-1-e1581639970935.jpg
ORGANIZER;CN="Ballarat%20African%20Association%20%28BAA%29":MAILTO:ballaratafricanassociation@gmail.com.au
GEO:-37.5581345;143.8554904
X-APPLE-STRUCTURED-LOCATION;VALUE=URI;X-ADDRESS=Ballarat Library 178 Doveton St N Ballarat Victoria 3353 Australia;X-APPLE-RADIUS=500;X-TITLE=178 Doveton St N:geo:143.8554904,-37.5581345
END:VEVENT
END:VCALENDAR