BEGIN:VCALENDAR
VERSION:2.0
PRODID:-//Ballarat Regional Multicultural Council - ECPv4.9.13//NONSGML v1.0//EN
CALSCALE:GREGORIAN
METHOD:PUBLISH
X-WR-CALNAME:Ballarat Regional Multicultural Council
X-ORIGINAL-URL:https://www.brmc.org.au
X-WR-CALDESC:Events for Ballarat Regional Multicultural Council
BEGIN:VTIMEZONE
TZID:Europe/Paris
BEGIN:DAYLIGHT
TZOFFSETFROM:+0100
TZOFFSETTO:+0200
TZNAME:CEST
DTSTART:20200329T010000
END:DAYLIGHT
BEGIN:STANDARD
TZOFFSETFROM:+0200
TZOFFSETTO:+0100
TZNAME:CET
DTSTART:20201025T010000
END:STANDARD
END:VTIMEZONE
BEGIN:VEVENT
DTSTART;TZID=Europe/Paris:20200321T110000
DTEND;TZID=Europe/Paris:20200321T150000
DTSTAMP:20260424T174045
CREATED:20200225T055604Z
LAST-MODIFIED:20200406T083009Z
UID:2167-1584788400-1584802800@www.brmc.org.au
SUMMARY:[CANCELLED] Harmony Fest 2020: Walk With Us + Holi Festival
DESCRIPTION:In true intercultural style\, this year’s Harmony Fest sees two events merging together on Saturday 21st March at Lake Wendouree. \nCentre for Multicultural Youth (CMY)’s popular ‘Walk With Us’ has joined with the Ballarat Indian Association’s Holi Festival of Colours.\nTogether with supporting partners headspace Ballarat\, Ballarat Health Services and Sonika\, they have put together an event that is not to be missed! \nEveryone is welcome to join the walk around Lake Wendouree starting at 11am to raise dialogue around mental health issues in diverse communities. \nAfterwards\, everyone can join in the Holi Festival celebration with the exciting throwing of colours. \nThere will be a Celebration Central area with entertainment\, food and community stalls. A fantastic event for the whole family. \nDownload the full Harmony Fest 2020 program\nwww.ballarat.vic.gov.au/sites/default/files/2020-02/HarmonyFest2020_Program_web.pdf \n
URL:https://www.brmc.org.au/event/harmony-fest-2020-walk-with-us-holi-festival/
LOCATION:Lake Wendouree Fairyland\, Lake Wendouree Fairyland\, Wendouree\, Victoria\, 3355\, Australia
ATTACH;FMTTYPE=image/jpeg:https://www.brmc.org.au/wp-content/uploads/2020/02/Walk-With-Us-and-Holi-Festival.jpg
ORGANIZER;CN="Centre%20for%20Multicultural%20Youth%20%28CMY%29%20-%20Ballarat":MAILTO:info@cmy.net.au
GEO:-37.5463719;143.8234099
X-APPLE-STRUCTURED-LOCATION;VALUE=URI;X-ADDRESS=Lake Wendouree Fairyland Lake Wendouree Fairyland Wendouree Victoria 3355 Australia;X-APPLE-RADIUS=500;X-TITLE=Lake Wendouree Fairyland:geo:143.8234099,-37.5463719
END:VEVENT
END:VCALENDAR