BEGIN:VCALENDAR
VERSION:2.0
PRODID:-//Ballarat Regional Multicultural Council - ECPv4.9.13//NONSGML v1.0//EN
CALSCALE:GREGORIAN
METHOD:PUBLISH
X-WR-CALNAME:Ballarat Regional Multicultural Council
X-ORIGINAL-URL:https://www.brmc.org.au
X-WR-CALDESC:Events for Ballarat Regional Multicultural Council
BEGIN:VTIMEZONE
TZID:Europe/Paris
BEGIN:DAYLIGHT
TZOFFSETFROM:+0100
TZOFFSETTO:+0200
TZNAME:CEST
DTSTART:20210328T010000
END:DAYLIGHT
BEGIN:STANDARD
TZOFFSETFROM:+0200
TZOFFSETTO:+0100
TZNAME:CET
DTSTART:20211031T010000
END:STANDARD
END:VTIMEZONE
BEGIN:VEVENT
DTSTART;TZID=Europe/Paris:20210318T130000
DTEND;TZID=Europe/Paris:20210318T134500
DTSTAMP:20260424T210456
CREATED:20210225T082138Z
LAST-MODIFIED:20210319T010435Z
UID:3689-1616072400-1616075100@www.brmc.org.au
SUMMARY:Harmony Fest 2021: Intercultural Dance Workout for Fitness
DESCRIPTION:Come and join in these fun and free group dance workout sessions with easy to master moves and chart-topping hits. \nIt’s a total body workout\, combining cardio\, muscle conditioning\, balance and flexibility. \nFree event presented as part of Harmony Fest 2021. \nRegister to secure your spot. \nBook Now\n  \n
URL:https://www.brmc.org.au/event/harmony-fest-2021-intercultural-dance-workout-for-fitness/2021-03-18/
LOCATION:Ballarat Aquatic & Lifestyle Centre\, Prince of Wales Recreation Reserve\, Gillies Street North\, Ballarat\, Victoria\, 3350\, Australia
ATTACH;FMTTYPE=image/jpeg:https://www.brmc.org.au/wp-content/uploads/2021/02/2021-03-18-Harmony-Fest-2021-Intercultural-Dance-Workout-for-Fitness-e1614241263321.jpg
ORGANIZER;CN="Ballarat%20Aquatic%20%26%20Lifestyle%20Centre":MAILTO:balc@ballarat.vic.gov.au
GEO:-37.5502162;143.8176306
X-APPLE-STRUCTURED-LOCATION;VALUE=URI;X-ADDRESS=Ballarat Aquatic & Lifestyle Centre Prince of Wales Recreation Reserve Gillies Street North Ballarat Victoria 3350 Australia;X-APPLE-RADIUS=500;X-TITLE=Prince of Wales Recreation Reserve\, Gillies Street North:geo:143.8176306,-37.5502162
END:VEVENT
END:VCALENDAR