BEGIN:VCALENDAR
VERSION:2.0
PRODID:-//Ballarat Regional Multicultural Council - ECPv4.9.13//NONSGML v1.0//EN
CALSCALE:GREGORIAN
METHOD:PUBLISH
X-WR-CALNAME:Ballarat Regional Multicultural Council
X-ORIGINAL-URL:https://www.brmc.org.au
X-WR-CALDESC:Events for Ballarat Regional Multicultural Council
BEGIN:VTIMEZONE
TZID:Europe/Paris
BEGIN:DAYLIGHT
TZOFFSETFROM:+0100
TZOFFSETTO:+0200
TZNAME:CEST
DTSTART:20210328T010000
END:DAYLIGHT
BEGIN:STANDARD
TZOFFSETFROM:+0200
TZOFFSETTO:+0100
TZNAME:CET
DTSTART:20211031T010000
END:STANDARD
END:VTIMEZONE
BEGIN:VEVENT
DTSTART;TZID=Europe/Paris:20210320T143000
DTEND;TZID=Europe/Paris:20210320T143000
DTSTAMP:20260424T222842
CREATED:20210319T001124Z
LAST-MODIFIED:20210319T001124Z
UID:3818-1616250600-1616250600@www.brmc.org.au
SUMMARY:Harmony Fest 2021: Intercultural Welcome Afternoon Tea
DESCRIPTION:Mingle and network at this annual meet-up. \nFeaturing special guest Traditional Owner Tammy Gilson who will give a traditional Welcome to Country and Smoking Ceremony along with a brief talk about Aboriginal culture in the local area. \nBring a friend or meet someone new at this afternoon tea to welcome new migrants and international students.\nRefreshments provided. \nBookings required.\nBOOK NOW\nEnquiries: 5320 5180 / interculturalservices@ballarat.vic.gov.au \n
URL:https://www.brmc.org.au/event/harmony-fest-2021-intercultural-welcome-afternoon-tea/
LOCATION:IneXterior Café\, 401 Mair St\, Ballarat\, Victoria\, 3350\, Australia
ATTACH;FMTTYPE=image/jpeg:https://www.brmc.org.au/wp-content/uploads/2021/03/2021-03-20-Intercultural-Welcome-Afternoon-Tea-e1616112551640.jpg
ORGANIZER;CN="Harmony%20Fest%20%28City%20of%20Ballarat%29":MAILTO:interculturalservices@ballarat.vic.gov.au
GEO:-37.5596102;143.8547385
X-APPLE-STRUCTURED-LOCATION;VALUE=URI;X-ADDRESS=IneXterior Café 401 Mair St Ballarat Victoria 3350 Australia;X-APPLE-RADIUS=500;X-TITLE=401 Mair St:geo:143.8547385,-37.5596102
END:VEVENT
END:VCALENDAR