BEGIN:VCALENDAR
VERSION:2.0
PRODID:-//Ballarat Regional Multicultural Council - ECPv4.9.13//NONSGML v1.0//EN
CALSCALE:GREGORIAN
METHOD:PUBLISH
X-WR-CALNAME:Ballarat Regional Multicultural Council
X-ORIGINAL-URL:https://www.brmc.org.au
X-WR-CALDESC:Events for Ballarat Regional Multicultural Council
BEGIN:VTIMEZONE
TZID:Europe/Paris
BEGIN:DAYLIGHT
TZOFFSETFROM:+0100
TZOFFSETTO:+0200
TZNAME:CEST
DTSTART:20210328T010000
END:DAYLIGHT
BEGIN:STANDARD
TZOFFSETFROM:+0200
TZOFFSETTO:+0100
TZNAME:CET
DTSTART:20211031T010000
END:STANDARD
END:VTIMEZONE
BEGIN:VEVENT
DTSTART;TZID=Europe/Paris:20210605T123000
DTEND;TZID=Europe/Paris:20210605T123000
DTSTAMP:20260425T112343
CREATED:20210510T030815Z
LAST-MODIFIED:20210510T031233Z
UID:4005-1622896200-1622896200@www.brmc.org.au
SUMMARY:INDIA UNITED Charity Challenge Match
DESCRIPTION:We’re uniting all the local Indian communities for a soccer match like no other! \nHosted by BRMC and SMS\, this match will help raise much needed funds for the SMS India Covid Appeal and is brought to you by the Ballarat Indian Association\, Virasat E Punjab Ballarat\, Ballarat Keralites’ Foundation of Australia\, Ballarat Telugu Association\, Ballarat Gujjus\, and the Ballarat Malayalee Association. \n
URL:https://www.brmc.org.au/event/india-united-charity-challenge-match/
LOCATION:Ballarat Regional Soccer Facility\, 900 Pleasant Street South\, Redan\, Victoria\, 3350\, Australia
ATTACH;FMTTYPE=image/jpeg:https://www.brmc.org.au/wp-content/uploads/2021/05/2021-06-05-INDIA-UNITED-Charity-Challenge-Match-e1620616342867.jpg
GEO:-37.5783486;143.8318227
X-APPLE-STRUCTURED-LOCATION;VALUE=URI;X-ADDRESS=Ballarat Regional Soccer Facility 900 Pleasant Street South Redan Victoria 3350 Australia;X-APPLE-RADIUS=500;X-TITLE=900 Pleasant Street South:geo:143.8318227,-37.5783486
END:VEVENT
END:VCALENDAR