BEGIN:VCALENDAR
VERSION:2.0
PRODID:-//Ballarat Regional Multicultural Council - ECPv4.9.13//NONSGML v1.0//EN
CALSCALE:GREGORIAN
METHOD:PUBLISH
X-WR-CALNAME:Ballarat Regional Multicultural Council
X-ORIGINAL-URL:https://www.brmc.org.au
X-WR-CALDESC:Events for Ballarat Regional Multicultural Council
BEGIN:VTIMEZONE
TZID:Europe/Paris
BEGIN:DAYLIGHT
TZOFFSETFROM:+0100
TZOFFSETTO:+0200
TZNAME:CEST
DTSTART:20190331T010000
END:DAYLIGHT
BEGIN:STANDARD
TZOFFSETFROM:+0200
TZOFFSETTO:+0100
TZNAME:CET
DTSTART:20191027T010000
END:STANDARD
END:VTIMEZONE
BEGIN:VEVENT
DTSTART;TZID=Europe/Paris:20190322T183000
DTEND;TZID=Europe/Paris:20190322T183000
DTSTAMP:20260425T112104
CREATED:20190320T032715Z
LAST-MODIFIED:20190320T032715Z
UID:1033-1553279400-1553279400@www.brmc.org.au
SUMMARY:Intercultural Cities Gala Dinner 2019
DESCRIPTION:The Gala Dinner celebrates our membership to the Council of Europe’s lntercultural City Network. Ballarat was the first in Australia to join the network in 2017\, and to be named an lntercultural City. \nThe Gala Dinner is a spectacular highlight during our annual Harmony Fest celebrations. Now in its 9th year\, Harmony Fest continues to expand in size\, popularity and diversity\, and 2019 will see a week-long celebration of food\, music and cultural activities during Cultural Diversity Week March 15-24. \nThe evening includes a three-course dinner and live entertainment featuring an exciting mix of multicultural performances and local dance band\, Ballarat Ska Union. \nTickets are limited and bookings will close on Monday 11 March. \n
URL:https://www.brmc.org.au/event/intercultural-cities-gala-dinner-2019/
LOCATION:Mercure Ballarat Hotel & Convention Centre\, 613 Main Road\, Golden Point\, Victoria\, 3350\, Australia
ATTACH;FMTTYPE=image/jpeg:https://www.brmc.org.au/wp-content/uploads/2019/03/harmonyfest02.jpg
ORGANIZER;CN="City%20of%20Ballarat":MAILTO:info@ballarat.vic.gov.au
GEO:-37.5793245;143.8685708
X-APPLE-STRUCTURED-LOCATION;VALUE=URI;X-ADDRESS=Mercure Ballarat Hotel & Convention Centre 613 Main Road Golden Point Victoria 3350 Australia;X-APPLE-RADIUS=500;X-TITLE=613 Main Road:geo:143.8685708,-37.5793245
END:VEVENT
END:VCALENDAR