BEGIN:VCALENDAR
VERSION:2.0
PRODID:-//Ballarat Regional Multicultural Council - ECPv4.9.13//NONSGML v1.0//EN
CALSCALE:GREGORIAN
METHOD:PUBLISH
X-WR-CALNAME:Ballarat Regional Multicultural Council
X-ORIGINAL-URL:https://www.brmc.org.au
X-WR-CALDESC:Events for Ballarat Regional Multicultural Council
BEGIN:VTIMEZONE
TZID:Europe/Paris
BEGIN:DAYLIGHT
TZOFFSETFROM:+0100
TZOFFSETTO:+0200
TZNAME:CEST
DTSTART:20190331T010000
END:DAYLIGHT
BEGIN:STANDARD
TZOFFSETFROM:+0200
TZOFFSETTO:+0100
TZNAME:CET
DTSTART:20191027T010000
END:STANDARD
END:VTIMEZONE
BEGIN:VEVENT
DTSTART;TZID=Europe/Paris:20190209T170000
DTEND;TZID=Europe/Paris:20190209T210000
DTSTAMP:20260424T193106
CREATED:20190206T035258Z
LAST-MODIFIED:20190206T035258Z
UID:856-1549731600-1549746000@www.brmc.org.au
SUMMARY:Interkultura Community Celebration
DESCRIPTION:An Intercultural Celebration featuring the regional premiere of the short film “I’ll Stand With You” produced by Matt Norman\, Wingman Pictures Int’ for Vicsport. Featuring Ballarat City FC players\, the film promotes inclusion & challenges racism in sport. Speakers include executive representatives of the Victorian Multicultural Commission\, Football Victoria & Vicsport. The evening includes an amazing Pan-African buffet dinner courtesy of local ethnic community caterers. Drinks at bar prices. \nTickets strictly limited due to venue capacity. Please be sure to add your name to the waitlist should you miss out; our team will contact you if additional tickets open up! \nFor more information contact interkultura@brmc.org.au or telephone Elisabeth or Gilbert on 03 5383 0613 \n
URL:https://www.brmc.org.au/event/interkultura-community-celebration/
LOCATION:Upstairs at The Pavilion\, Ballarat Regional Soccer Facility\, 900 Pleasant Street South\, Redan\, Victoria\, 3350\, Australia
ATTACH;FMTTYPE=image/jpeg:https://www.brmc.org.au/wp-content/uploads/2019/02/Interkultura-Community-Celebration.jpg
ORGANIZER;CN="Ballarat%20City%20Football%20Club":MAILTO:info@ballaratcityfc.com.au
GEO:-37.5783486;143.8318227
X-APPLE-STRUCTURED-LOCATION;VALUE=URI;X-ADDRESS=Upstairs at The Pavilion Ballarat Regional Soccer Facility 900 Pleasant Street South Redan Victoria 3350 Australia;X-APPLE-RADIUS=500;X-TITLE=900 Pleasant Street South:geo:143.8318227,-37.5783486
END:VEVENT
END:VCALENDAR