BEGIN:VCALENDAR
VERSION:2.0
PRODID:-//Ballarat Regional Multicultural Council - ECPv4.9.13//NONSGML v1.0//EN
CALSCALE:GREGORIAN
METHOD:PUBLISH
X-WR-CALNAME:Ballarat Regional Multicultural Council
X-ORIGINAL-URL:https://www.brmc.org.au
X-WR-CALDESC:Events for Ballarat Regional Multicultural Council
BEGIN:VTIMEZONE
TZID:Europe/Paris
BEGIN:DAYLIGHT
TZOFFSETFROM:+0100
TZOFFSETTO:+0200
TZNAME:CEST
DTSTART:20190331T010000
END:DAYLIGHT
BEGIN:STANDARD
TZOFFSETFROM:+0200
TZOFFSETTO:+0100
TZNAME:CET
DTSTART:20191027T010000
END:STANDARD
END:VTIMEZONE
BEGIN:VEVENT
DTSTART;TZID=Europe/Paris:20191019T090000
DTEND;TZID=Europe/Paris:20191019T160000
DTSTAMP:20260425T113149
CREATED:20190913T044715Z
LAST-MODIFIED:20191003T065551Z
UID:1625-1571475600-1571500800@www.brmc.org.au
SUMMARY:Interkultura Community Football Festival
DESCRIPTION:Football championship for players of asylum-seeker and refugee background from emerging ethnic communities primarily in rural and regional Victoria with Craig Foster and Hakeem Al-Araibi. \nAll welcome\, all day with gold coin donation. \nVenue: Ballarat Regional Soccer Facility\, 900 Pleasant St S\, Redan \nAuthentic global street food\, Aussie BBQ\, free community activities including street soccer and football skills workshops\, for girls and young women (registration essential) presented by Melbourne Victory FC Community. \nSupport Ballarat’s Interkultura network in welcoming\, including and connecting young people of asylum-seeker and refugee background from emerging ethnic communities across rural and regional Victoria in friendship through football. \nFor more information contact welcome@brmc.org.au or Debbie/Elisabeth on 03 5383 0613. \n\nYou can also help by donating: https://asf.org.au/donate/interkultura-football-tournament\nAll donations $2 and above are fully tax-deductible. \nAssist in removing barriers to participation that young people from emerging ethnic communities face on a daily basis. Choose to help erase the significant costs of transportation and accommodation or provide sporting equipment that allows players to safely join in the tournament. \n
URL:https://www.brmc.org.au/event/interkultura-community-football-festival/
LOCATION:Ballarat Regional Soccer Facility\, 900 Pleasant Street South\, Redan\, Victoria\, 3350\, Australia
ATTACH;FMTTYPE=image/png:https://www.brmc.org.au/wp-content/uploads/2019/10/Interkultura-Football-Festival.png
ORGANIZER;CN="Ballarat%20Regional%20Multicultural%20Council%20Inc.%20%28BRMC%29":MAILTO:info@brmc.org.au
GEO:-37.5783486;143.8318227
X-APPLE-STRUCTURED-LOCATION;VALUE=URI;X-ADDRESS=Ballarat Regional Soccer Facility 900 Pleasant Street South Redan Victoria 3350 Australia;X-APPLE-RADIUS=500;X-TITLE=900 Pleasant Street South:geo:143.8318227,-37.5783486
END:VEVENT
END:VCALENDAR