BEGIN:VCALENDAR
VERSION:2.0
PRODID:-//Ballarat Regional Multicultural Council - ECPv4.9.13//NONSGML v1.0//EN
CALSCALE:GREGORIAN
METHOD:PUBLISH
X-WR-CALNAME:Ballarat Regional Multicultural Council
X-ORIGINAL-URL:https://www.brmc.org.au
X-WR-CALDESC:Events for Ballarat Regional Multicultural Council
BEGIN:VTIMEZONE
TZID:Europe/Paris
BEGIN:DAYLIGHT
TZOFFSETFROM:+0100
TZOFFSETTO:+0200
TZNAME:CEST
DTSTART:20200329T010000
END:DAYLIGHT
BEGIN:STANDARD
TZOFFSETFROM:+0200
TZOFFSETTO:+0100
TZNAME:CET
DTSTART:20201025T010000
END:STANDARD
END:VTIMEZONE
BEGIN:VEVENT
DTSTART;TZID=Europe/Paris:20200227T160000
DTEND;TZID=Europe/Paris:20200227T173000
DTSTAMP:20200228T154055
CREATED:20200207T033003Z
LAST-MODIFIED:20200207T033325Z
UID:2094-1582819200-1582824600@www.brmc.org.au
SUMMARY:Language Cafe - February 2020
DESCRIPTION:The Language Cafe aims to regularly bring people from all walks of life together to chat in different languages\, improve English conversation skills\, make new connections and share culture\, food and interests in an informal and inclusive environment. \nFollow Ballarat Libraries on Facebook to keep up-to-date with all event news. \nREGISTER\n  \n
URL:https://www.brmc.org.au/event/language-cafe-february-2020/
LOCATION:Ballarat Library\, 178 Doveton St N\, Ballarat\, Victoria\, 3353\, Australia
ATTACH;FMTTYPE=image/jpeg:https://www.brmc.org.au/wp-content/uploads/2019/07/Language-Cafe.jpg
ORGANIZER;CN="Ballarat%20Libraries":MAILTO:ballaratlibraries@ballarat.vic.gov.au
GEO:-37.5581345;143.8554904
X-APPLE-STRUCTURED-LOCATION;VALUE=URI;X-ADDRESS=Ballarat Library 178 Doveton St N Ballarat Victoria 3353 Australia;X-APPLE-RADIUS=500;X-TITLE=178 Doveton St N:geo:143.8554904,-37.5581345
END:VEVENT
END:VCALENDAR