BEGIN:VCALENDAR
VERSION:2.0
PRODID:-//Ballarat Regional Multicultural Council - ECPv4.9.13//NONSGML v1.0//EN
CALSCALE:GREGORIAN
METHOD:PUBLISH
X-WR-CALNAME:Ballarat Regional Multicultural Council
X-ORIGINAL-URL:https://www.brmc.org.au
X-WR-CALDESC:Events for Ballarat Regional Multicultural Council
BEGIN:VTIMEZONE
TZID:Europe/Paris
BEGIN:DAYLIGHT
TZOFFSETFROM:+0100
TZOFFSETTO:+0200
TZNAME:CEST
DTSTART:20200329T010000
END:DAYLIGHT
BEGIN:STANDARD
TZOFFSETFROM:+0200
TZOFFSETTO:+0100
TZNAME:CET
DTSTART:20201025T010000
END:STANDARD
END:VTIMEZONE
BEGIN:VEVENT
DTSTART;TZID=Europe/Paris:20200625T160000
DTEND;TZID=Europe/Paris:20200625T173000
DTSTAMP:20260425T160902
CREATED:20200207T035001Z
LAST-MODIFIED:20200611T065139Z
UID:2106-1593100800-1593106200@www.brmc.org.au
SUMMARY:Language Cafe Online - June 2020
DESCRIPTION:The Language Café aims to regularly bring people from all walks of life together to chat in different languages\, improve English conversation skills and make new connections. \nREGISTER\nOnce you have registered you will receive an email at 4pm on Thursday 25th June with a link to join the online meeting. \n
URL:https://www.brmc.org.au/event/language-cafe-june-2020/
ATTACH;FMTTYPE=image/jpeg:https://www.brmc.org.au/wp-content/uploads/2019/07/Language-Cafe.jpg
ORGANIZER;CN="Ballarat%20Libraries":MAILTO:ballaratlibraries@ballarat.vic.gov.au
END:VEVENT
END:VCALENDAR