BEGIN:VCALENDAR
VERSION:2.0
PRODID:-//Ballarat Regional Multicultural Council - ECPv4.9.13//NONSGML v1.0//EN
CALSCALE:GREGORIAN
METHOD:PUBLISH
X-WR-CALNAME:Ballarat Regional Multicultural Council
X-ORIGINAL-URL:https://www.brmc.org.au
X-WR-CALDESC:Events for Ballarat Regional Multicultural Council
BEGIN:VTIMEZONE
TZID:Europe/Paris
BEGIN:DAYLIGHT
TZOFFSETFROM:+0100
TZOFFSETTO:+0200
TZNAME:CEST
DTSTART:20200329T010000
END:DAYLIGHT
BEGIN:STANDARD
TZOFFSETFROM:+0200
TZOFFSETTO:+0100
TZNAME:CET
DTSTART:20201025T010000
END:STANDARD
END:VTIMEZONE
BEGIN:VEVENT
DTSTART;TZID=Europe/Paris:20200528T160000
DTEND;TZID=Europe/Paris:20200528T173000
DTSTAMP:20260425T160842
CREATED:20200207T034744Z
LAST-MODIFIED:20200520T061329Z
UID:2103-1590681600-1590687000@www.brmc.org.au
SUMMARY:Language Cafe Online - May 2020
DESCRIPTION:The Language Café is now online! \nThe Language Café aims to regularly bring people from all walks of life together to chat in different languages\, improve English conversation skills and make new connections. \nREGISTER\nOnce you have registered you will receive an email at 4pm on Thursday 28th May with a link to join the online meeting. \n
URL:https://www.brmc.org.au/event/language-cafe-may-2020/
LOCATION:Ballarat Library\, 178 Doveton St N\, Ballarat\, Victoria\, 3353\, Australia
ATTACH;FMTTYPE=image/jpeg:https://www.brmc.org.au/wp-content/uploads/2019/07/Language-Cafe.jpg
ORGANIZER;CN="Ballarat%20Libraries":MAILTO:ballaratlibraries@ballarat.vic.gov.au
GEO:-37.5581345;143.8554904
X-APPLE-STRUCTURED-LOCATION;VALUE=URI;X-ADDRESS=Ballarat Library 178 Doveton St N Ballarat Victoria 3353 Australia;X-APPLE-RADIUS=500;X-TITLE=178 Doveton St N:geo:143.8554904,-37.5581345
END:VEVENT
END:VCALENDAR