BEGIN:VCALENDAR
VERSION:2.0
PRODID:-//Ballarat Regional Multicultural Council - ECPv4.9.13//NONSGML v1.0//EN
CALSCALE:GREGORIAN
METHOD:PUBLISH
X-WR-CALNAME:Ballarat Regional Multicultural Council
X-ORIGINAL-URL:https://www.brmc.org.au
X-WR-CALDESC:Events for Ballarat Regional Multicultural Council
BEGIN:VTIMEZONE
TZID:Europe/Paris
BEGIN:DAYLIGHT
TZOFFSETFROM:+0100
TZOFFSETTO:+0200
TZNAME:CEST
DTSTART:20200329T010000
END:DAYLIGHT
BEGIN:STANDARD
TZOFFSETFROM:+0200
TZOFFSETTO:+0100
TZNAME:CET
DTSTART:20201025T010000
END:STANDARD
END:VTIMEZONE
BEGIN:VEVENT
DTSTART;TZID=Europe/Paris:20200202T100000
DTEND;TZID=Europe/Paris:20200202T170000
DTSTAMP:20260425T145337
CREATED:20200131T031944Z
LAST-MODIFIED:20200131T031944Z
UID:2035-1580637600-1580662800@www.brmc.org.au
SUMMARY:Lunar New Year at Sovereign Hill
DESCRIPTION:Witness the excitement and exhilaration of Lunar New Year as Sovereign Hill welcomes in the Year of the Rat. \nThe outdoor museum\, together with the Chinese Australian Cultural Society Ballarat\, will be awash with celebrations as visitors have the opportunity to watch\, participate and learn about Chinese culture and the experiences of Chinese miners during Ballarat’s goldrush. \nActivities include: Traditional Chinese Performances\, Lion Dance Workshop\, Chinese Dragon and Lion Parade\, Hands On Activities and more. \nTo view the full program visit www.sovereignhillsummergoldrush.com.au/lunar-new-year \n
URL:https://www.brmc.org.au/event/lunar-new-year-at-sovereign-hill/
LOCATION:Sovereign Hill\, Bradshaw St\, Golden Point\, Victoria\, 3350\, Australia
ATTACH;FMTTYPE=image/jpeg:https://www.brmc.org.au/wp-content/uploads/2020/01/Lunar-New-Year.jpg
ORGANIZER;CN="Chinese%20Australian%20Cultural%20Society%20Ballarat%20Inc.":MAILTO:info@chineseballarat.org.au
GEO:-37.5730562;143.8622466
X-APPLE-STRUCTURED-LOCATION;VALUE=URI;X-ADDRESS=Sovereign Hill Bradshaw St Golden Point Victoria 3350 Australia;X-APPLE-RADIUS=500;X-TITLE=Bradshaw St:geo:143.8622466,-37.5730562
END:VEVENT
END:VCALENDAR