BEGIN:VCALENDAR
VERSION:2.0
PRODID:-//Ballarat Regional Multicultural Council - ECPv4.9.13//NONSGML v1.0//EN
CALSCALE:GREGORIAN
METHOD:PUBLISH
X-WR-CALNAME:Ballarat Regional Multicultural Council
X-ORIGINAL-URL:https://www.brmc.org.au
X-WR-CALDESC:Events for Ballarat Regional Multicultural Council
BEGIN:VTIMEZONE
TZID:Europe/Paris
BEGIN:DAYLIGHT
TZOFFSETFROM:+0100
TZOFFSETTO:+0200
TZNAME:CEST
DTSTART:20190331T010000
END:DAYLIGHT
BEGIN:STANDARD
TZOFFSETFROM:+0200
TZOFFSETTO:+0100
TZNAME:CET
DTSTART:20191027T010000
END:STANDARD
END:VTIMEZONE
BEGIN:VEVENT
DTSTART;TZID=Europe/Paris:20190907T090000
DTEND;TZID=Europe/Paris:20190907T130000
DTSTAMP:20260425T140508
CREATED:20190821T054654Z
LAST-MODIFIED:20190821T054654Z
UID:1559-1567846800-1567861200@www.brmc.org.au
SUMMARY:Make Your Move Ballarat
DESCRIPTION:Make Your Move Ballarat is a women’s health week event on Saturday 7 September 2019. \nThis is an opportunity for women to invest in their own health – there will be sessions and classes promoting physical activity\, mental health and mindfulness and healthy eating. Guest speakers will share their knowledge and experience on a range of women’s health topics\, and there will be a Wellbeing Space to relax with a short massage or get a health check from a qualified nurse. \nLimited supervised children’s activities are available for children aged 18 months – 3 years. Bookings required. \nPlease contact YMCA for more information on ballarat@ymca.org.au or 03 4311 1500. \n
URL:https://www.brmc.org.au/event/make-your-move-ballarat/
LOCATION:Barkly Square\, 25-39 Barkly St\, Ballarat\, Victoria\, 3350\, Australia
ATTACH;FMTTYPE=image/png:https://www.brmc.org.au/wp-content/uploads/2019/08/2019-09-07-Make-Your-Move-Ballarat.png
ORGANIZER;CN="YMCA%20Ballarat":MAILTO:ballarat@ymca.org.au
GEO:-37.5640498;143.8690385
X-APPLE-STRUCTURED-LOCATION;VALUE=URI;X-ADDRESS=Barkly Square 25-39 Barkly St Ballarat Victoria 3350 Australia;X-APPLE-RADIUS=500;X-TITLE=25-39 Barkly St:geo:143.8690385,-37.5640498
END:VEVENT
END:VCALENDAR