BEGIN:VCALENDAR
VERSION:2.0
PRODID:-//Ballarat Regional Multicultural Council - ECPv4.9.13//NONSGML v1.0//EN
CALSCALE:GREGORIAN
METHOD:PUBLISH
X-WR-CALNAME:Ballarat Regional Multicultural Council
X-ORIGINAL-URL:https://www.brmc.org.au
X-WR-CALDESC:Events for Ballarat Regional Multicultural Council
BEGIN:VTIMEZONE
TZID:Europe/Paris
BEGIN:DAYLIGHT
TZOFFSETFROM:+0100
TZOFFSETTO:+0200
TZNAME:CEST
DTSTART:20200329T010000
END:DAYLIGHT
BEGIN:STANDARD
TZOFFSETFROM:+0200
TZOFFSETTO:+0100
TZNAME:CET
DTSTART:20201025T010000
END:STANDARD
END:VTIMEZONE
BEGIN:VEVENT
DTSTART;TZID=Europe/Paris:20200907T160000
DTEND;TZID=Europe/Paris:20200907T173000
DTSTAMP:20260425T211833
CREATED:20200903T070257Z
LAST-MODIFIED:20200903T070257Z
UID:3038-1599494400-1599499800@www.brmc.org.au
SUMMARY:Mental Health for Creatives
DESCRIPTION:As creatives we are always creating and sharing ourselves and our art with the world. Finding the right balance to remain fulled so that we can not only continue our craft but remain joyful\, creative and happy is so important. How can we remain creative? What practices can we start NOW that will set a strong foundation into the future for our creativity and mental health? \nJoin one of Australia leading psychologists Dr Robi Sonderegger Doctor of Clinical Psychology in the 1 workshop followed by Q & A. \nDr Robi is known for his compelling\, passionate and highly entertaining presentations\, that are actively designed to equip and empower participants. \nREGISTER NOW\n  \n
URL:https://www.brmc.org.au/event/mental-health-for-creatives/
ATTACH;FMTTYPE=image/jpeg:https://www.brmc.org.au/wp-content/uploads/2020/09/Mental-Health-for-Creatives-e1599116528520.jpg
ORGANIZER;CN="City%20of%20Ballarat":MAILTO:info@ballarat.vic.gov.au
END:VEVENT
END:VCALENDAR