BEGIN:VCALENDAR
VERSION:2.0
PRODID:-//Ballarat Regional Multicultural Council - ECPv4.9.13//NONSGML v1.0//EN
CALSCALE:GREGORIAN
METHOD:PUBLISH
X-WR-CALNAME:Ballarat Regional Multicultural Council
X-ORIGINAL-URL:https://www.brmc.org.au
X-WR-CALDESC:Events for Ballarat Regional Multicultural Council
BEGIN:VTIMEZONE
TZID:Europe/Paris
BEGIN:DAYLIGHT
TZOFFSETFROM:+0100
TZOFFSETTO:+0200
TZNAME:CEST
DTSTART:20190331T010000
END:DAYLIGHT
BEGIN:STANDARD
TZOFFSETFROM:+0200
TZOFFSETTO:+0100
TZNAME:CET
DTSTART:20191027T010000
END:STANDARD
END:VTIMEZONE
BEGIN:VEVENT
DTSTART;TZID=Europe/Paris:20191107T101500
DTEND;TZID=Europe/Paris:20191107T111500
DTSTAMP:20260425T005132
CREATED:20191106T035539Z
LAST-MODIFIED:20191106T040120Z
UID:1891-1573121700-1573125300@www.brmc.org.au
SUMMARY:Migrant & Refugee Swimming Lessons 2019
DESCRIPTION:Free for all migrants and refugees. \nThese swimming sessions are running for 6 Weeks on Thursday mornings.\nSessions run 10.15am – 11.15am. \nOur aim is to teach newly arrived migrants and refugees how to swim and be safe around water.\nLearning to swim is an important life skill and it is never too late to learn. \nJoin us at the Ballarat Aquatic & Lifestyle Centre on the following dates: \n\n7 November\n14 November\n21 November\n28 November\n5 December\n12 December\n\nFor more information or to book please contact:\nDeruka on 03 5383 0613 or d.dekuek@brmc.org.au \n
URL:https://www.brmc.org.au/event/migrant-and-refugee-swimming-lessons-2019/2019-11-07/
LOCATION:Ballarat Aquatic & Lifestyle Centre\, Prince of Wales Recreation Reserve\, Gillies Street North\, Ballarat\, Victoria\, 3350\, Australia
ATTACH;FMTTYPE=image/jpeg:https://www.brmc.org.au/wp-content/uploads/2019/11/Swimming-Lessons.jpg
ORGANIZER;CN="Ballarat%20Regional%20Multicultural%20Council%20Inc.%20%28BRMC%29":MAILTO:info@brmc.org.au
GEO:-37.5502162;143.8176306
X-APPLE-STRUCTURED-LOCATION;VALUE=URI;X-ADDRESS=Ballarat Aquatic & Lifestyle Centre Prince of Wales Recreation Reserve Gillies Street North Ballarat Victoria 3350 Australia;X-APPLE-RADIUS=500;X-TITLE=Prince of Wales Recreation Reserve\, Gillies Street North:geo:143.8176306,-37.5502162
END:VEVENT
END:VCALENDAR