BEGIN:VCALENDAR
VERSION:2.0
PRODID:-//Ballarat Regional Multicultural Council - ECPv4.9.13//NONSGML v1.0//EN
CALSCALE:GREGORIAN
METHOD:PUBLISH
X-WR-CALNAME:Ballarat Regional Multicultural Council
X-ORIGINAL-URL:https://www.brmc.org.au
X-WR-CALDESC:Events for Ballarat Regional Multicultural Council
BEGIN:VTIMEZONE
TZID:Europe/Paris
BEGIN:DAYLIGHT
TZOFFSETFROM:+0100
TZOFFSETTO:+0200
TZNAME:CEST
DTSTART:20200329T010000
END:DAYLIGHT
BEGIN:STANDARD
TZOFFSETFROM:+0200
TZOFFSETTO:+0100
TZNAME:CET
DTSTART:20201025T010000
END:STANDARD
END:VTIMEZONE
BEGIN:VEVENT
DTSTART;TZID=Europe/Paris:20201109T093000
DTEND;TZID=Europe/Paris:20201109T103000
DTSTAMP:20260425T161115
CREATED:20201105T073335Z
LAST-MODIFIED:20201105T075235Z
UID:3208-1604914200-1604917800@www.brmc.org.au
SUMMARY:NAIDOC Week 2020: FLAG Raising Ceremony (Virtual)
DESCRIPTION:The annual Flag Raising Ceremony officially marks the beginning of Vic NAIDOC Week.\nSee our flags raised and flying high at Federation Square. \nThis event brings together community to honor the connection to culture\, country\, and language of all Aboriginal and Torres Strait Islander peoples with a Smoking Ceremony\, Welcome to Country and a moment of silence for our people who have gone before us. \nIn partnership with Fed Square\, This years event will be streamed live. \nSee Facebook Event to Attend\n  \n
URL:https://www.brmc.org.au/event/naidoc-week-2020-flag-raising-ceremony-virtual/
ATTACH;FMTTYPE=image/jpeg:https://www.brmc.org.au/wp-content/uploads/2020/11/Flag-Raising-Ceremony-e1604561410815.jpg
ORGANIZER;CN="VIC%20NAIDOC":MAILTO:vicnaidoc@gmail.com
END:VEVENT
END:VCALENDAR