BEGIN:VCALENDAR
VERSION:2.0
PRODID:-//Ballarat Regional Multicultural Council - ECPv4.9.13//NONSGML v1.0//EN
CALSCALE:GREGORIAN
METHOD:PUBLISH
X-WR-CALNAME:Ballarat Regional Multicultural Council
X-ORIGINAL-URL:https://www.brmc.org.au
X-WR-CALDESC:Events for Ballarat Regional Multicultural Council
BEGIN:VTIMEZONE
TZID:Europe/Paris
BEGIN:DAYLIGHT
TZOFFSETFROM:+0100
TZOFFSETTO:+0200
TZNAME:CEST
DTSTART:20220327T010000
END:DAYLIGHT
BEGIN:STANDARD
TZOFFSETFROM:+0200
TZOFFSETTO:+0100
TZNAME:CET
DTSTART:20221030T010000
END:STANDARD
END:VTIMEZONE
BEGIN:VEVENT
DTSTART;TZID=Europe/Paris:20220526T100000
DTEND;TZID=Europe/Paris:20220526T100000
DTSTAMP:20260425T113519
CREATED:20220524T035339Z
LAST-MODIFIED:20220524T035339Z
UID:4979-1653559200-1653559200@www.brmc.org.au
SUMMARY:National Sorry Day Ceremony 2022
DESCRIPTION:National Sorry Day is of particular significance to the Aboriginal and Torres Strait Islander communities not only for Ballarat but for the nation.\nThe day is an opportunity for all Australians to remember past mistakes and for us to continue to build and strengthen a stronger\, meaningful\, and respectful relationship together. \nWe acknowledge the ‘Bringing them Home Report’ that was tabled in Parliament on 26 May 1997. This report details the immense hardship and treatment endured by Aboriginal and Torres Strait Islander children. Forceful removal from their families\, as part of the official government policy during invasion and colonisation\, still impact our communities today\, these children are now referred to as the ‘Stolen Generations’. \nA short commemorative service will be held at Queen Victoria Square on Thursday 26 May\, starting at 10 am\, followed by speeches and a video presentation in the Trench Room at the Ballarat Town Hall. \n
URL:https://www.brmc.org.au/event/national-sorry-day-ceremony-2022/
LOCATION:Queen Victoria Square\, Sturt St\, Ballarat\, Victoria\, 3350\, Australia
ATTACH;FMTTYPE=image/jpeg:https://www.brmc.org.au/wp-content/uploads/2022/05/National-Sorry-Day-e1653364301376.jpg
ORGANIZER;CN="City%20of%20Ballarat":MAILTO:info@ballarat.vic.gov.au
GEO:-37.561828;143.856768
X-APPLE-STRUCTURED-LOCATION;VALUE=URI;X-ADDRESS=Queen Victoria Square Sturt St Ballarat Victoria 3350 Australia;X-APPLE-RADIUS=500;X-TITLE=Sturt St:geo:143.856768,-37.561828
END:VEVENT
END:VCALENDAR