BEGIN:VCALENDAR
VERSION:2.0
PRODID:-//Ballarat Regional Multicultural Council - ECPv4.9.13//NONSGML v1.0//EN
CALSCALE:GREGORIAN
METHOD:PUBLISH
X-WR-CALNAME:Ballarat Regional Multicultural Council
X-ORIGINAL-URL:https://www.brmc.org.au
X-WR-CALDESC:Events for Ballarat Regional Multicultural Council
BEGIN:VTIMEZONE
TZID:Europe/Paris
BEGIN:DAYLIGHT
TZOFFSETFROM:+0100
TZOFFSETTO:+0200
TZNAME:CEST
DTSTART:20190331T010000
END:DAYLIGHT
BEGIN:STANDARD
TZOFFSETFROM:+0200
TZOFFSETTO:+0100
TZNAME:CET
DTSTART:20191027T010000
END:STANDARD
END:VTIMEZONE
BEGIN:VEVENT
DTSTART;TZID=Europe/Paris:20190323T180000
DTEND;TZID=Europe/Paris:20190323T200000
DTSTAMP:20260424T114058
CREATED:20190320T010747Z
LAST-MODIFIED:20190320T012048Z
UID:1006-1553364000-1553371200@www.brmc.org.au
SUMMARY:Official Opening of Murrup Laarr
DESCRIPTION:All are invited to the official opening of new public artwork by Deanne Gilson. \nThis event includes: \n\nWelcome to Country\nSmoking Ceremony\nCorroboree\n\nNorth Gardens Indigenous Sculpture Park\, Corner Zoo Drive and Wendouree Parade\, Ballarat \nFor additional information\, please contact the Public Art Officer Kate Gerritsen\, kategerritsen@ballarat.vic.gov.au \n
URL:https://www.brmc.org.au/event/official-opening-of-murrup-laarr/
LOCATION:North Gardens Indigenous Sculpture Park\, Corner Zoo Drive and Wendouree Parade\, Wendouree\, Victoria\, 3355\, Australia
ATTACH;FMTTYPE=image/jpeg:https://www.brmc.org.au/wp-content/uploads/2019/03/52141348_296592087694699_439457617752883200_n.jpg
GEO:-37.5444716;143.8250234
X-APPLE-STRUCTURED-LOCATION;VALUE=URI;X-ADDRESS=North Gardens Indigenous Sculpture Park Corner Zoo Drive and Wendouree Parade Wendouree Victoria 3355 Australia;X-APPLE-RADIUS=500;X-TITLE=Corner Zoo Drive and Wendouree Parade:geo:143.8250234,-37.5444716
END:VEVENT
END:VCALENDAR