BEGIN:VCALENDAR
VERSION:2.0
PRODID:-//Ballarat Regional Multicultural Council - ECPv4.9.13//NONSGML v1.0//EN
CALSCALE:GREGORIAN
METHOD:PUBLISH
X-WR-CALNAME:Ballarat Regional Multicultural Council
X-ORIGINAL-URL:https://www.brmc.org.au
X-WR-CALDESC:Events for Ballarat Regional Multicultural Council
BEGIN:VTIMEZONE
TZID:Europe/Paris
BEGIN:DAYLIGHT
TZOFFSETFROM:+0100
TZOFFSETTO:+0200
TZNAME:CEST
DTSTART:20190331T010000
END:DAYLIGHT
BEGIN:STANDARD
TZOFFSETFROM:+0200
TZOFFSETTO:+0100
TZNAME:CET
DTSTART:20191027T010000
END:STANDARD
END:VTIMEZONE
BEGIN:VEVENT
DTSTART;TZID=Europe/Paris:20190324T090000
DTEND;TZID=Europe/Paris:20190324T160000
DTSTAMP:20260424T113936
CREATED:20190320T012021Z
LAST-MODIFIED:20190320T012021Z
UID:1014-1553418000-1553443200@www.brmc.org.au
SUMMARY:Philippine Festival 2019
DESCRIPTION:If there is one Filipino event you should attend this year\, it’s the Philippine Festival 2019. It’s happening on Sunday\, 24 March 2019 at Queen Victoria Market (QVM) from 9 am to 4 pm. \nEntry is free. \nThe Philippine Festival 2019 coincides with the celebration of Cultural Diversity Week. \nEnjoy the taste of our popular Filipino food. Be entertained by the best local Filipino-Australian artists performing throughout the day. There will be a special performance by the Ati-Atihan group. Join the halo-halo and barbeque eating competitions. And have a chance to win roundtrip tickets to the Philippines. \nThis event is an opportunity for the Filipino Community to showcase its rich culture. Our unique and fun-filled festival will add joy to people now living in Victoria. \nThe theme “Celebrating Living in Victoria” is in keeping with what QVM means to all Victorians. QVM represents the heart and soul of the City of Melbourne for it equates to people and food. QVM has become the meeting hub for all people of diverse cultural backgrounds. It welcomes people of different languages\, religions\, professions\, talents\, interests\, age and ability. Any major city in the world has its own market life\, market brand – and Melbourne has QVM. \nFor sponsorship and stall hire enquiries\, contact: \nNoel Tolentino: 0488 237 805 – noel@intelliloansolutions.com.au\nChito Javier: 0414 061 777\nEd Guevarra: 0419 209 738\nRoy Carbungco: 0411 145 776\nFred Jover: 0403 944 479 \n
URL:https://www.brmc.org.au/event/philippine-festival-2019/
LOCATION:Queen Victoria Market\, 513 Elizabeth St\, Melbourne\, Victoria\, 3000\, Australia
ATTACH;FMTTYPE=image/jpeg:https://www.brmc.org.au/wp-content/uploads/2019/03/52630328_577124342752347_5545381199561621504_o-e1553044736534.jpg
ORGANIZER;CN="Pamana%20Australia":MAILTO:pamanaaustralia@gmail.com
GEO:-37.8069018;144.958807
X-APPLE-STRUCTURED-LOCATION;VALUE=URI;X-ADDRESS=Queen Victoria Market 513 Elizabeth St Melbourne Victoria 3000 Australia;X-APPLE-RADIUS=500;X-TITLE=513 Elizabeth St:geo:144.958807,-37.8069018
END:VEVENT
END:VCALENDAR