BEGIN:VCALENDAR
VERSION:2.0
PRODID:-//Ballarat Regional Multicultural Council - ECPv4.9.13//NONSGML v1.0//EN
CALSCALE:GREGORIAN
METHOD:PUBLISH
X-WR-CALNAME:Ballarat Regional Multicultural Council
X-ORIGINAL-URL:https://www.brmc.org.au
X-WR-CALDESC:Events for Ballarat Regional Multicultural Council
BEGIN:VTIMEZONE
TZID:Europe/Paris
BEGIN:DAYLIGHT
TZOFFSETFROM:+0100
TZOFFSETTO:+0200
TZNAME:CEST
DTSTART:20190331T010000
END:DAYLIGHT
BEGIN:STANDARD
TZOFFSETFROM:+0200
TZOFFSETTO:+0100
TZNAME:CET
DTSTART:20191027T010000
END:STANDARD
END:VTIMEZONE
BEGIN:VEVENT
DTSTART;TZID=Europe/Paris:20190914T093000
DTEND;TZID=Europe/Paris:20190914T210000
DTSTAMP:20260425T104119
CREATED:20190906T064451Z
LAST-MODIFIED:20190906T064451Z
UID:1609-1568453400-1568494800@www.brmc.org.au
SUMMARY:Ponnonam 2019
DESCRIPTION:The Ballarat Malayalee Association invites you to our Ponnonam 2019. \nWe will be welcoming you with Thalapoli\, Chendamelam\, Pulikali\, Maveli\, Poookkalam\, followed by various cultural programs organised by our children and friends. One of the special events of this year’s celebration is the official launch of the BMA website. The highlight of the day is the Grand Sumptuous Onasadya prepared by our friends in the BMA. \nPlease join us for one of the biggest annual celebration of our community in Ballarat and enrich our celebration. \n
URL:https://www.brmc.org.au/event/ponnonam-2019/
LOCATION:St Patrick’s Cathedral\, 3 Lyons St S\, Ballarat\, Victoria\, 3350\, Australia
ATTACH;FMTTYPE=image/jpeg:https://www.brmc.org.au/wp-content/uploads/2019/09/2019-09-14-Ponnonam-2019.jpg
ORGANIZER;CN="Ballarat%20Malayalee%20Association%20Inc.%20%28BMA%29":MAILTO:bmaballarat@gmail.com
GEO:-37.5618887;143.8526306
X-APPLE-STRUCTURED-LOCATION;VALUE=URI;X-ADDRESS=St Patrick’s Cathedral 3 Lyons St S Ballarat Victoria 3350 Australia;X-APPLE-RADIUS=500;X-TITLE=3 Lyons St S:geo:143.8526306,-37.5618887
END:VEVENT
END:VCALENDAR