BEGIN:VCALENDAR
VERSION:2.0
PRODID:-//Ballarat Regional Multicultural Council - ECPv4.9.13//NONSGML v1.0//EN
CALSCALE:GREGORIAN
METHOD:PUBLISH
X-WR-CALNAME:Ballarat Regional Multicultural Council
X-ORIGINAL-URL:https://www.brmc.org.au
X-WR-CALDESC:Events for Ballarat Regional Multicultural Council
BEGIN:VTIMEZONE
TZID:Europe/Paris
BEGIN:DAYLIGHT
TZOFFSETFROM:+0100
TZOFFSETTO:+0200
TZNAME:CEST
DTSTART:20190331T010000
END:DAYLIGHT
BEGIN:STANDARD
TZOFFSETFROM:+0200
TZOFFSETTO:+0100
TZNAME:CET
DTSTART:20191027T010000
END:STANDARD
END:VTIMEZONE
BEGIN:VEVENT
DTSTART;TZID=Europe/Paris:20190607T173000
DTEND;TZID=Europe/Paris:20190607T190000
DTSTAMP:20260425T172648
CREATED:20190604T102229Z
LAST-MODIFIED:20190604T102229Z
UID:1221-1559928600-1559934000@www.brmc.org.au
SUMMARY:Public Presentation: Screen time and the effect on the brain
DESCRIPTION:Free public presentation “Screen time and the effect on the brain” presented by Baroness Susan Greenfield. \nSusan is neuroscientist and international speaker. \nA gold coin donation would be appreciated and will contribute toward BIRCH’s sponsorship of Rosmary Aldrich’s involvement in the Ballarat Foundation’s Event ‘Dancing with our Stars’. \n
URL:https://www.brmc.org.au/event/public-presentation-screen-time-and-the-effect-on-the-brain/
LOCATION:St John of God Ballarat Hospital\, 101 Drummond St N\, Ballarat\, Victoria\, 3350\, Australia
ATTACH;FMTTYPE=image/jpeg:https://www.brmc.org.au/wp-content/uploads/2019/06/Screen-time-and-the-effect-on-the-brain-e1559643719884.jpg
ORGANIZER;CN="Ballarat%20Innovation%20%26%20Research%20Collaboration%20for%20Health%20%28BIRCH%29":MAILTO:admin@birch.org.au
GEO:-37.5577476;143.8468635
X-APPLE-STRUCTURED-LOCATION;VALUE=URI;X-ADDRESS=St John of God Ballarat Hospital 101 Drummond St N Ballarat Victoria 3350 Australia;X-APPLE-RADIUS=500;X-TITLE=101 Drummond St N:geo:143.8468635,-37.5577476
END:VEVENT
END:VCALENDAR