BEGIN:VCALENDAR
VERSION:2.0
PRODID:-//Ballarat Regional Multicultural Council - ECPv4.9.13//NONSGML v1.0//EN
CALSCALE:GREGORIAN
METHOD:PUBLISH
X-WR-CALNAME:Ballarat Regional Multicultural Council
X-ORIGINAL-URL:https://www.brmc.org.au
X-WR-CALDESC:Events for Ballarat Regional Multicultural Council
BEGIN:VTIMEZONE
TZID:Europe/Paris
BEGIN:DAYLIGHT
TZOFFSETFROM:+0100
TZOFFSETTO:+0200
TZNAME:CEST
DTSTART:20200329T010000
END:DAYLIGHT
BEGIN:STANDARD
TZOFFSETFROM:+0200
TZOFFSETTO:+0100
TZNAME:CET
DTSTART:20201025T010000
END:STANDARD
END:VTIMEZONE
BEGIN:VEVENT
DTSTART;TZID=Europe/Paris:20200613T123000
DTEND;TZID=Europe/Paris:20200613T140000
DTSTAMP:20260425T143757
CREATED:20200611T082829Z
LAST-MODIFIED:20200611T082829Z
UID:2810-1592051400-1592056800@www.brmc.org.au
SUMMARY:Refugee Week 2020: Ballarat Share 100 Meals
DESCRIPTION:In celebration of Refugee Week 2020 – the Year of Welcome – Ballarat Malayalee Association (BMA) members will cook and package a lunch of delicious traditional food. Together with volunteers from Ballarat Refugee and Asylum Seeker Support network (BRASSN) they will deliver the meal to people across our community. \nYou can share this tasty Malayalee lunch. Just order and pay for home delivery. Another 60 health workers and refugees will share for free. \nCost: $25 per meal (Butter Chicken / Vegetarian Dish and Fried Rice) \nBUY NOW\nAll funds will be used to directly support vulnerable\, isolated or financially stressed people from migrant and refugee backgrounds. \n
URL:https://www.brmc.org.au/event/refugee-week-2020-ballarat-share-100-meals/
ATTACH;FMTTYPE=image/jpeg:https://www.brmc.org.au/wp-content/uploads/2020/06/Ballarat-Share-100-Meals.jpg
ORGANIZER;CN="Ballarat%20Malayalee%20Association%20Inc.%20%28BMA%29":MAILTO:bmaballarat@gmail.com
END:VEVENT
END:VCALENDAR