BEGIN:VCALENDAR
VERSION:2.0
PRODID:-//Ballarat Regional Multicultural Council - ECPv4.9.13//NONSGML v1.0//EN
CALSCALE:GREGORIAN
METHOD:PUBLISH
X-WR-CALNAME:Ballarat Regional Multicultural Council
X-ORIGINAL-URL:https://www.brmc.org.au
X-WR-CALDESC:Events for Ballarat Regional Multicultural Council
BEGIN:VTIMEZONE
TZID:Europe/Paris
BEGIN:DAYLIGHT
TZOFFSETFROM:+0100
TZOFFSETTO:+0200
TZNAME:CEST
DTSTART:20200329T010000
END:DAYLIGHT
BEGIN:STANDARD
TZOFFSETFROM:+0200
TZOFFSETTO:+0100
TZNAME:CET
DTSTART:20201025T010000
END:STANDARD
END:VTIMEZONE
BEGIN:VEVENT
DTSTART;VALUE=DATE:20200620
DTEND;VALUE=DATE:20200621
DTSTAMP:20260425T143737
CREATED:20200612T011616Z
LAST-MODIFIED:20200612T011616Z
UID:2824-1592611200-1592697599@www.brmc.org.au
SUMMARY:Refugee Week 2020: Storytime Online
DESCRIPTION:Storytime online presented by Ballarat Libraries. \nFeaturing the book\, My Two Blankets by Irena Kobald & Freya Blackwood.\nA beautifully written story illustrating the refugee experience through a young girl’s eyes. \nBallarat Libraries Facebook page: www.facebook.com/ballaratlibraries \n
URL:https://www.brmc.org.au/event/refugee-week-2020-storytime-online/
ATTACH;FMTTYPE=image/png:https://www.brmc.org.au/wp-content/uploads/2020/06/My-Two-Blankets.png
ORGANIZER;CN="Ballarat%20Libraries":MAILTO:ballaratlibraries@ballarat.vic.gov.au
END:VEVENT
END:VCALENDAR