BEGIN:VCALENDAR
VERSION:2.0
PRODID:-//Ballarat Regional Multicultural Council - ECPv4.9.13//NONSGML v1.0//EN
CALSCALE:GREGORIAN
METHOD:PUBLISH
X-WR-CALNAME:Ballarat Regional Multicultural Council
X-ORIGINAL-URL:https://www.brmc.org.au
X-WR-CALDESC:Events for Ballarat Regional Multicultural Council
BEGIN:VTIMEZONE
TZID:Europe/Paris
BEGIN:DAYLIGHT
TZOFFSETFROM:+0100
TZOFFSETTO:+0200
TZNAME:CEST
DTSTART:20200329T010000
END:DAYLIGHT
BEGIN:STANDARD
TZOFFSETFROM:+0200
TZOFFSETTO:+0100
TZNAME:CET
DTSTART:20201025T010000
END:STANDARD
END:VTIMEZONE
BEGIN:VEVENT
DTSTART;VALUE=DATE:20200613
DTEND;VALUE=DATE:20200621
DTSTAMP:20260425T143857
CREATED:20200611T070558Z
LAST-MODIFIED:20200611T070558Z
UID:2803-1592006400-1592697599@www.brmc.org.au
SUMMARY:Refugee Week 2020: This is My Story...
DESCRIPTION:Presented by Centre for Multicultural Youth (CMY). \nYoung people who now call Ballarat\, Horsham or Nhill home\, share their experiences and achievements\, while reflecting on the theme – ‘Year of Welcome’. \nCMY Facebook page: www.facebook.com/CMYBallarat \n
URL:https://www.brmc.org.au/event/refugee-week-2020-this-is-my-story/
ORGANIZER;CN="Centre%20for%20Multicultural%20Youth%20%28CMY%29%20-%20Ballarat":MAILTO:info@cmy.net.au
END:VEVENT
END:VCALENDAR