BEGIN:VCALENDAR
VERSION:2.0
PRODID:-//Ballarat Regional Multicultural Council - ECPv4.9.13//NONSGML v1.0//EN
CALSCALE:GREGORIAN
METHOD:PUBLISH
X-WR-CALNAME:Ballarat Regional Multicultural Council
X-ORIGINAL-URL:https://www.brmc.org.au
X-WR-CALDESC:Events for Ballarat Regional Multicultural Council
BEGIN:VTIMEZONE
TZID:Europe/Paris
BEGIN:DAYLIGHT
TZOFFSETFROM:+0100
TZOFFSETTO:+0200
TZNAME:CEST
DTSTART:20190331T010000
END:DAYLIGHT
BEGIN:STANDARD
TZOFFSETFROM:+0200
TZOFFSETTO:+0100
TZNAME:CET
DTSTART:20191027T010000
END:STANDARD
END:VTIMEZONE
BEGIN:VEVENT
DTSTART;TZID=Europe/Paris:20190615T110000
DTEND;TZID=Europe/Paris:20190615T130000
DTSTAMP:20260425T172125
CREATED:20190516T042643Z
LAST-MODIFIED:20190605T041050Z
UID:1159-1560596400-1560603600@www.brmc.org.au
SUMMARY:Refugee Week: Intercultural Lunch
DESCRIPTION:Refugee Week 2019: Sunday 16th June – Saturday 22nd June \nFREE EVENT\nBallarat Community Health\, Ballarat Regional Multicultural Council\, City of Ballarat and Federation University are celebrating Refugee Week 2019 with this event. \nJoin us for a lived refugee exhibition and lunch at Barkly Square on Saturday 15th June. \nALL WELCOME \nRegister online: www.eventbrite.com.au/e/refugee-week-intercultural-lunch-tickets-61618006115 \n
URL:https://www.brmc.org.au/event/refugee-week-intercultural-lunch/
LOCATION:BRMC – Barkly Square\, 25-39 Barkly St\, Ballarat\, Victoria\, 3350\, Australia
ATTACH;FMTTYPE=image/jpeg:https://www.brmc.org.au/wp-content/uploads/2019/05/Refugee-week-lunch_page-0001-e1557980545992.jpg
GEO:-37.5640498;143.8690385
X-APPLE-STRUCTURED-LOCATION;VALUE=URI;X-ADDRESS=BRMC – Barkly Square 25-39 Barkly St Ballarat Victoria 3350 Australia;X-APPLE-RADIUS=500;X-TITLE=25-39 Barkly St:geo:143.8690385,-37.5640498
END:VEVENT
END:VCALENDAR