BEGIN:VCALENDAR
VERSION:2.0
PRODID:-//Ballarat Regional Multicultural Council - ECPv4.9.13//NONSGML v1.0//EN
CALSCALE:GREGORIAN
METHOD:PUBLISH
X-WR-CALNAME:Ballarat Regional Multicultural Council
X-ORIGINAL-URL:https://www.brmc.org.au
X-WR-CALDESC:Events for Ballarat Regional Multicultural Council
BEGIN:VTIMEZONE
TZID:Europe/Paris
BEGIN:DAYLIGHT
TZOFFSETFROM:+0100
TZOFFSETTO:+0200
TZNAME:CEST
DTSTART:20190331T010000
END:DAYLIGHT
BEGIN:STANDARD
TZOFFSETFROM:+0200
TZOFFSETTO:+0100
TZNAME:CET
DTSTART:20191027T010000
END:STANDARD
END:VTIMEZONE
BEGIN:VEVENT
DTSTART;VALUE=DATE:20190616
DTEND;VALUE=DATE:20190623
DTSTAMP:20260425T190442
CREATED:20190516T041951Z
LAST-MODIFIED:20190611T065101Z
UID:1156-1560643200-1561247999@www.brmc.org.au
SUMMARY:Refugee Week
DESCRIPTION:Refugee Week is Australia’s peak annual activity to raise awareness about the issues affecting refugees and celebrate the positive contributions made by refugees to Australian society. \n2019 Theme – ‘A world of stories’\nThis year brings a fresh focus to celebrating the three-year theme #WithRefugees through ‘a world of stories’ from around the globe \nFor more information visit www.refugeeweek.org.au \nKeep an eye on the BRMC Facebook page\, website and upcoming newsletters for updates on events during Refugee Week. \n
URL:https://www.brmc.org.au/event/refugee-week/
ATTACH;FMTTYPE=image/jpeg:https://www.brmc.org.au/wp-content/uploads/2019/05/RWlogo.jpg
END:VEVENT
END:VCALENDAR