BEGIN:VCALENDAR
VERSION:2.0
PRODID:-//Ballarat Regional Multicultural Council - ECPv4.9.13//NONSGML v1.0//EN
CALSCALE:GREGORIAN
METHOD:PUBLISH
X-WR-CALNAME:Ballarat Regional Multicultural Council
X-ORIGINAL-URL:https://www.brmc.org.au
X-WR-CALDESC:Events for Ballarat Regional Multicultural Council
BEGIN:VTIMEZONE
TZID:Europe/Paris
BEGIN:DAYLIGHT
TZOFFSETFROM:+0100
TZOFFSETTO:+0200
TZNAME:CEST
DTSTART:20190331T010000
END:DAYLIGHT
BEGIN:STANDARD
TZOFFSETFROM:+0200
TZOFFSETTO:+0100
TZNAME:CET
DTSTART:20191027T010000
END:STANDARD
END:VTIMEZONE
BEGIN:VEVENT
DTSTART;TZID=Europe/Paris:20190324T150000
DTEND;TZID=Europe/Paris:20190324T190000
DTSTAMP:20260425T222708
CREATED:20190206T044837Z
LAST-MODIFIED:20190206T044837Z
UID:875-1553439600-1553454000@www.brmc.org.au
SUMMARY:ROCK the BLOCK 2019
DESCRIPTION:The only locally organised street party led by young people to celebrate our diverse and rich cultures here in Ballarat is BACK! \nRock the Block Culture Fest 2019 is gonna be bigger and better than ever with killer live music provided by a melting pot of local legends and Melbourne royalty TO BE ANNOUNCED SOON. \nThe event is open and FREE to everyone of ALL AGES\, backgrounds and cultures! To acknowledge the land we will be meeting on\, we will be kicking the day off with a Welcome to Country and Smoking Ceremony performed by local Wadawurrung elders\, followed by traditional Aboriginal dancing. \nNot to mention we’ll be bringing you the infamous rock climbing wall\, food vans from various worldly cuisines – including home made Afghan Chai Khana\, giant lawn games for every age\, circus performers\, henna tattoos\, face painting\, cultural arts and crafts\, painting of a mural throughout the day\, a chill out zone and much\, much more. \nWe acknowledge that this event is being held on the land of the Wadawurrung people of the Kulin Nation. We pay our respects to their elders\, past present and emerging. We would also like to acknowledge sovereignty has never been ceded. \nRock the Block is proudly presented by B’You Ballarat\, Ballarat Council\, Centre for Multicultural Youth (CMY)\, Federation University Australia\, and supported by community partners headspace Ballarat\, Bank of Melbourne\, Ballarat Regional Multicultural Council\, Evolve partners and BADAC. \n
URL:https://www.brmc.org.au/event/rock-the-block-2019/
LOCATION:Federation University SMB Campus\, 107 Lydiard St S\, Ballarat\, Victoria\, 3350\, Australia
ATTACH;FMTTYPE=image/jpeg:https://www.brmc.org.au/wp-content/uploads/2019/02/Rock-the-Block.jpg
GEO:-37.5654017;143.857426
X-APPLE-STRUCTURED-LOCATION;VALUE=URI;X-ADDRESS=Federation University SMB Campus 107 Lydiard St S Ballarat Victoria 3350 Australia;X-APPLE-RADIUS=500;X-TITLE=107 Lydiard St S:geo:143.857426,-37.5654017
END:VEVENT
END:VCALENDAR