BEGIN:VCALENDAR
VERSION:2.0
PRODID:-//Ballarat Regional Multicultural Council - ECPv4.9.13//NONSGML v1.0//EN
CALSCALE:GREGORIAN
METHOD:PUBLISH
X-WR-CALNAME:Ballarat Regional Multicultural Council
X-ORIGINAL-URL:https://www.brmc.org.au
X-WR-CALDESC:Events for Ballarat Regional Multicultural Council
BEGIN:VTIMEZONE
TZID:Europe/Paris
BEGIN:DAYLIGHT
TZOFFSETFROM:+0100
TZOFFSETTO:+0200
TZNAME:CEST
DTSTART:20200329T010000
END:DAYLIGHT
BEGIN:STANDARD
TZOFFSETFROM:+0200
TZOFFSETTO:+0100
TZNAME:CET
DTSTART:20201025T010000
END:STANDARD
END:VTIMEZONE
BEGIN:VEVENT
DTSTART;TZID=Europe/Paris:20200911T173000
DTEND;TZID=Europe/Paris:20200911T173000
DTSTAMP:20260425T230552
CREATED:20200915T110401Z
LAST-MODIFIED:20200915T110401Z
UID:3081-1599845400-1599845400@www.brmc.org.au
SUMMARY:Running for Council - Everything you want to know
DESCRIPTION:The Ballaarat Mechanics Institute has teamed up with the Victorian Local Governance Association and the City of Ballarat to present the first in a four-part series on the Ballarat Local Government Elections. This panel discussion will tell you everything you should know about running for council. \nFREE Registration\n  \n
URL:https://www.brmc.org.au/event/running-for-council-everything-you-want-to-know/
ATTACH;FMTTYPE=image/png:https://www.brmc.org.au/wp-content/uploads/2020/09/BMI-Running-for-Council.png
ORGANIZER;CN="Ballaarat%20Mechanics%27%20Institute":MAILTO:execmanager@ballaratmi.org.au
END:VEVENT
END:VCALENDAR