BEGIN:VCALENDAR
VERSION:2.0
PRODID:-//Ballarat Regional Multicultural Council - ECPv4.9.13//NONSGML v1.0//EN
CALSCALE:GREGORIAN
METHOD:PUBLISH
X-WR-CALNAME:Ballarat Regional Multicultural Council
X-ORIGINAL-URL:https://www.brmc.org.au
X-WR-CALDESC:Events for Ballarat Regional Multicultural Council
BEGIN:VTIMEZONE
TZID:Europe/Paris
BEGIN:DAYLIGHT
TZOFFSETFROM:+0100
TZOFFSETTO:+0200
TZNAME:CEST
DTSTART:20190331T010000
END:DAYLIGHT
BEGIN:STANDARD
TZOFFSETFROM:+0200
TZOFFSETTO:+0100
TZNAME:CET
DTSTART:20191027T010000
END:STANDARD
END:VTIMEZONE
BEGIN:VEVENT
DTSTART;TZID=Europe/Paris:20190531T100000
DTEND;TZID=Europe/Paris:20190531T130000
DTSTAMP:20260425T141959
CREATED:20190516T035807Z
LAST-MODIFIED:20190516T035807Z
UID:1148-1559296800-1559307600@www.brmc.org.au
SUMMARY:Skill Up! Workshop 4. Arts Law: Copyright Law 101 for Artists
DESCRIPTION:Creating art means creating copyright. This Arts Law session uses practical examples\, case studies from artists’ experiences and hypothetical scenarios to help make copyright accessible and\, dare we say\, fun for creatives. This session is relevant to all creatives and artists across all art forms. This workshop is part of the Regional Arts Victoria Arts Connect series. \nThis series of workshops is designed to build the skills of our city’s creative people. If you are serving on a volunteer board\, or beginning your practice as an artist\, these workshops are designed to equip you with the skills you need to move forward in your endeavour. This program is presented by the City of Ballarat\, with support from Regional Arts Victoria and The Art Gallery of Ballarat \nLocation: The Annexe\, Art Gallery of Ballarat\, 40 Lydiard St North\nCost: $10 per session \nBook online: www.artgalleryofballarat.com.au/gallery_events/skill-up-4/ \n
URL:https://www.brmc.org.au/event/skill-up-workshop-4-arts-law-copyright-law-101-for-artists/
LOCATION:The Annexe\, Art Gallery of Ballarat\, 40 Lydiard St North\, Ballarat\, Victoria\, 3350\, Australia
ATTACH;FMTTYPE=image/jpeg:https://www.brmc.org.au/wp-content/uploads/2019/05/Copyright-Law-101-for-Artists-e1557978856473.jpg
ORGANIZER;CN="City%20of%20Ballarat":MAILTO:info@ballarat.vic.gov.au
GEO:-37.5604363;143.8582914
X-APPLE-STRUCTURED-LOCATION;VALUE=URI;X-ADDRESS=The Annexe Art Gallery of Ballarat 40 Lydiard St North Ballarat Victoria 3350 Australia;X-APPLE-RADIUS=500;X-TITLE=40 Lydiard St North:geo:143.8582914,-37.5604363
END:VEVENT
END:VCALENDAR