BEGIN:VCALENDAR
VERSION:2.0
PRODID:-//Ballarat Regional Multicultural Council - ECPv4.9.13//NONSGML v1.0//EN
CALSCALE:GREGORIAN
METHOD:PUBLISH
X-WR-CALNAME:Ballarat Regional Multicultural Council
X-ORIGINAL-URL:https://www.brmc.org.au
X-WR-CALDESC:Events for Ballarat Regional Multicultural Council
BEGIN:VTIMEZONE
TZID:Europe/Paris
BEGIN:DAYLIGHT
TZOFFSETFROM:+0100
TZOFFSETTO:+0200
TZNAME:CEST
DTSTART:20190331T010000
END:DAYLIGHT
BEGIN:STANDARD
TZOFFSETFROM:+0200
TZOFFSETTO:+0100
TZNAME:CET
DTSTART:20191027T010000
END:STANDARD
END:VTIMEZONE
BEGIN:VEVENT
DTSTART;TZID=Europe/Paris:20190403T180000
DTEND;TZID=Europe/Paris:20190403T210000
DTSTAMP:20260425T172649
CREATED:20190402T234254Z
LAST-MODIFIED:20190402T234254Z
UID:1064-1554314400-1554325200@www.brmc.org.au
SUMMARY:Skill Up! Workshop - Creating and Planning a Great Event
DESCRIPTION:A series of introductory workshops are being held at the Art Gallery of Ballarat. These workshops are designed to build the skills of our city’s creative people. If you are serving on a volunteer board\, or beginning your practice as an artist\, these workshops are designed to equip you with the skills you need to move forward in your endeavour. This program is presented by the City of Ballarat\, with support from Regional Arts Victoria and the Art Gallery of Ballarat. \nCreating and Planning a Great Event Workshop\nThe City of Ballarat is home to some of the state’s best events including The Ballarat Begonia Festival\, Ballarat Heritage Weekend and Summer Sundays. If you have ever wanted to mount your own event here\, but were unsure how to go about it\, the Events Team at the City of Ballarat will take you through all the basic skills you need to know\, including planning\, permits\, and regulations. \nLocation: The Annexe\, Art Gallery of Ballarat\, 40 Lydiard St North\nCost: $10 per session. \nBook online: https://artgalleryofballarat.com.au/product/skill-up-2/ \n
URL:https://www.brmc.org.au/event/skill-up-workshop-creating-and-planning-a-great-event/
LOCATION:The Annexe\, Art Gallery of Ballarat\, 40 Lydiard St North\, Ballarat\, Victoria\, 3350\, Australia
ATTACH;FMTTYPE=image/jpeg:https://www.brmc.org.au/wp-content/uploads/2019/04/Skill-Up-2.jpg
ORGANIZER;CN="City%20of%20Ballarat":MAILTO:info@ballarat.vic.gov.au
GEO:-37.5604363;143.8582914
X-APPLE-STRUCTURED-LOCATION;VALUE=URI;X-ADDRESS=The Annexe Art Gallery of Ballarat 40 Lydiard St North Ballarat Victoria 3350 Australia;X-APPLE-RADIUS=500;X-TITLE=40 Lydiard St North:geo:143.8582914,-37.5604363
END:VEVENT
END:VCALENDAR