BEGIN:VCALENDAR
VERSION:2.0
PRODID:-//Ballarat Regional Multicultural Council - ECPv4.9.13//NONSGML v1.0//EN
CALSCALE:GREGORIAN
METHOD:PUBLISH
X-WR-CALNAME:Ballarat Regional Multicultural Council
X-ORIGINAL-URL:https://www.brmc.org.au
X-WR-CALDESC:Events for Ballarat Regional Multicultural Council
BEGIN:VTIMEZONE
TZID:Europe/Paris
BEGIN:DAYLIGHT
TZOFFSETFROM:+0100
TZOFFSETTO:+0200
TZNAME:CEST
DTSTART:20190331T010000
END:DAYLIGHT
BEGIN:STANDARD
TZOFFSETFROM:+0200
TZOFFSETTO:+0100
TZNAME:CET
DTSTART:20191027T010000
END:STANDARD
END:VTIMEZONE
BEGIN:VEVENT
DTSTART;TZID=Europe/Paris:20190305T073000
DTEND;TZID=Europe/Paris:20190305T130000
DTSTAMP:20260424T170229
CREATED:20190301T044237Z
LAST-MODIFIED:20190301T045121Z
UID:950-1551771000-1551790800@www.brmc.org.au
SUMMARY:Small Business Fair 2019
DESCRIPTION:Small business matters\nAre you a small business owner keen to grow but struggling to manage your time?\nOr perhaps you’re a sole trader thinking about launching your first business. \nThe Australian Government’s Small Business Fair is about to hit Ballarat on 5 March and it’s a great opportunity to find out about the incentives and programs that take your business to the next level. \nHosted by the Department of Jobs and Small Business\, the Fair will feature live demonstrations\, key note speakers\, presentations and practical advice from a business coach. \nThe Small Business Fair is a one-stop-shop where you can speak directly to locally-based Government agencies.\nYou will receive one-on-one advice from small business innovators and experienced small business owners. \nOther topics you can explore include: \n\nimproving your cash flow\, simplifying tax\, and how to receive financial incentives to grow your business and hire staff\ntips to enhance your digital capabilities to expand your customer base and take advantage\nof an unlimited online marketplace.\n\nThe Fair is free to attend\, simply register online today. \nFor enquiries about the Small Business Fair\, please call (02) 6121 3979. \n
URL:https://www.brmc.org.au/event/small-business-fair-2019/
LOCATION:Mercure Ballarat Hotel & Convention Centre\, 613 Main Road\, Golden Point\, Victoria\, 3350\, Australia
ATTACH;FMTTYPE=image/jpeg:https://www.brmc.org.au/wp-content/uploads/2019/03/Australian-Small-Business-Facebook_other-e1551415081950.jpg
GEO:-37.5793245;143.8685708
X-APPLE-STRUCTURED-LOCATION;VALUE=URI;X-ADDRESS=Mercure Ballarat Hotel & Convention Centre 613 Main Road Golden Point Victoria 3350 Australia;X-APPLE-RADIUS=500;X-TITLE=613 Main Road:geo:143.8685708,-37.5793245
END:VEVENT
END:VCALENDAR