BEGIN:VCALENDAR
VERSION:2.0
PRODID:-//Ballarat Regional Multicultural Council - ECPv4.9.13//NONSGML v1.0//EN
CALSCALE:GREGORIAN
METHOD:PUBLISH
X-WR-CALNAME:Ballarat Regional Multicultural Council
X-ORIGINAL-URL:https://www.brmc.org.au
X-WR-CALDESC:Events for Ballarat Regional Multicultural Council
BEGIN:VTIMEZONE
TZID:Europe/Paris
BEGIN:DAYLIGHT
TZOFFSETFROM:+0100
TZOFFSETTO:+0200
TZNAME:CEST
DTSTART:20190331T010000
END:DAYLIGHT
BEGIN:STANDARD
TZOFFSETFROM:+0200
TZOFFSETTO:+0100
TZNAME:CET
DTSTART:20191027T010000
END:STANDARD
END:VTIMEZONE
BEGIN:VEVENT
DTSTART;TZID=Europe/Paris:20190606T150000
DTEND;TZID=Europe/Paris:20190606T170000
DTSTAMP:20260425T154830
CREATED:20190516T044503Z
LAST-MODIFIED:20190516T044503Z
UID:1170-1559833200-1559840400@www.brmc.org.au
SUMMARY:Talking Money: look out for future you
DESCRIPTION:Where: CMY – Suite 12\, 107 Lydiard St S\, Ballarat\nWhen: 3pm – 5pm\, Thursday 6th June\nWhat: \n\nHow to budget\nHow to reduce bills\nHow to protect future YOU\nHow to achieve your money goals\nLearn about options for safe and affordable finance\n\nWorkshop includes afternoon tea and show bag. \nTo register call or text Hayley on 0448 623 006 \n
URL:https://www.brmc.org.au/event/talking-money-look-out-for-future-you/
LOCATION:Centre for Multicultural Youth (CMY)\, Suite 12\, 107 Lydiard St S\, Ballarat\, Victoria\, 3350\, Australia
ATTACH;FMTTYPE=image/png:https://www.brmc.org.au/wp-content/uploads/2019/05/Financial-Literacy-Ballarat-Poster-final-e1557981793143.png
ORGANIZER;CN="Centre%20for%20Multicultural%20Youth%20%28CMY%29":MAILTO:info@cmy.net.au
GEO:-37.5654017;143.857426
X-APPLE-STRUCTURED-LOCATION;VALUE=URI;X-ADDRESS=Centre for Multicultural Youth (CMY) Suite 12 107 Lydiard St S Ballarat Victoria 3350 Australia;X-APPLE-RADIUS=500;X-TITLE=Suite 12\, 107 Lydiard St S:geo:143.857426,-37.5654017
END:VEVENT
END:VCALENDAR