BEGIN:VCALENDAR
VERSION:2.0
PRODID:-//Ballarat Regional Multicultural Council - ECPv4.9.13//NONSGML v1.0//EN
CALSCALE:GREGORIAN
METHOD:PUBLISH
X-WR-CALNAME:Ballarat Regional Multicultural Council
X-ORIGINAL-URL:https://www.brmc.org.au
X-WR-CALDESC:Events for Ballarat Regional Multicultural Council
BEGIN:VTIMEZONE
TZID:Europe/Paris
BEGIN:DAYLIGHT
TZOFFSETFROM:+0100
TZOFFSETTO:+0200
TZNAME:CEST
DTSTART:20190331T010000
END:DAYLIGHT
BEGIN:STANDARD
TZOFFSETFROM:+0200
TZOFFSETTO:+0100
TZNAME:CET
DTSTART:20191027T010000
END:STANDARD
END:VTIMEZONE
BEGIN:VEVENT
DTSTART;TZID=Europe/Paris:20191122T173000
DTEND;TZID=Europe/Paris:20191122T193000
DTSTAMP:20260425T141610
CREATED:20191115T051356Z
LAST-MODIFIED:20191115T051356Z
UID:1923-1574443800-1574451000@www.brmc.org.au
SUMMARY:Timor-Leste 20 Years On - Book Launch
DESCRIPTION:Remembering East Timor’s Referendum for Independence in 1999 and their continuing efforts for Nationhood 20 years on\, join us for the launch of Pat Walsh’s book\, The Day Hope and History Rhymed in East Timor: and Other East Timor Stories. \n
URL:https://www.brmc.org.au/event/timor-leste-20-years-on-book-launch/
LOCATION:Ballarat Library\, 178 Doveton St N\, Ballarat\, Victoria\, 3353\, Australia
ATTACH;FMTTYPE=image/jpeg:https://www.brmc.org.au/wp-content/uploads/2019/11/Timor-Leste.jpg
ORGANIZER;CN="Ballarat%20Libraries":MAILTO:ballaratlibraries@ballarat.vic.gov.au
GEO:-37.5581345;143.8554904
X-APPLE-STRUCTURED-LOCATION;VALUE=URI;X-ADDRESS=Ballarat Library 178 Doveton St N Ballarat Victoria 3353 Australia;X-APPLE-RADIUS=500;X-TITLE=178 Doveton St N:geo:143.8554904,-37.5581345
END:VEVENT
END:VCALENDAR