BEGIN:VCALENDAR
VERSION:2.0
PRODID:-//Ballarat Regional Multicultural Council - ECPv4.9.13//NONSGML v1.0//EN
CALSCALE:GREGORIAN
METHOD:PUBLISH
X-WR-CALNAME:Ballarat Regional Multicultural Council
X-ORIGINAL-URL:https://www.brmc.org.au
X-WR-CALDESC:Events for Ballarat Regional Multicultural Council
BEGIN:VTIMEZONE
TZID:Europe/Paris
BEGIN:DAYLIGHT
TZOFFSETFROM:+0100
TZOFFSETTO:+0200
TZNAME:CEST
DTSTART:20200329T010000
END:DAYLIGHT
BEGIN:STANDARD
TZOFFSETFROM:+0200
TZOFFSETTO:+0100
TZNAME:CET
DTSTART:20201025T010000
END:STANDARD
END:VTIMEZONE
BEGIN:VEVENT
DTSTART;TZID=Europe/Paris:20200820T190000
DTEND;TZID=Europe/Paris:20200820T190000
DTSTAMP:20260425T180115
CREATED:20200806T061729Z
LAST-MODIFIED:20200818T050033Z
UID:2985-1597950000-1597950000@www.brmc.org.au
SUMMARY:Twilight Market Online - August 2020
DESCRIPTION:Marketplace (mar‘kitplas) N.  A space\, actual\, physical or online\, for people to gather\, exchange\, connect with each other. \nOn every continent throughout each century and now online people meet to commune and trade. \nBallarat Welcome Centre’s Twilight Market Online has a further benevolent purpose as an innovative and high-quality response to the changing needs of a culturally diverse community. \nThe Twilight Market provides a vital first step into the retail marketplace for Stepping Stones to Small Business emerging entrepreneurs of vulnerable migrant and refugee backgrounds\, supports other vulnerable local vendors striving to overcome barriers\, and provides opportunities for a rich mix of creative talent across our region. \nWhether in real time or as a virtual experience\, the Twilight Market offers diverse delights: Quality hand-made\, locally-sourced and ethically-produced goods from across our region and around the world; unique local services and support; homegrown flavours and fun from right here in Ballarat. \nThursday 20th August\, 7pm\nhttps://twilightmarket.brmc.org.au \nProceeds from all sales are paid directly to our vendors\, so you know that buying from the Twilight Market Online contributes to building the strength and vibrancy of local and regional small business. \n—\nThe Twilight Market Online is an initiative of the Ballarat Regional Multicultural Council as part of our Ballarat Welcome Centre. Our marketplace is designed to provides benevolent support and opportunities for emerging entrepreneurs from culturally and linguistically diverse backgrounds\, particularly vulnerable migrants and refugee entrepreneurs who face linguistic\, cultural\, health and financial barriers to community participation. \n
URL:https://www.brmc.org.au/event/twilight-market-online-august-2020/
ATTACH;FMTTYPE=image/png:https://www.brmc.org.au/wp-content/uploads/2020/08/Twilight-Market-Online-August-2020.png
ORGANIZER;CN="Ballarat%20Regional%20Multicultural%20Council%20Inc.%20%28BRMC%29":MAILTO:info@brmc.org.au
END:VEVENT
END:VCALENDAR