BEGIN:VCALENDAR
VERSION:2.0
PRODID:-//Ballarat Regional Multicultural Council - ECPv4.9.13//NONSGML v1.0//EN
CALSCALE:GREGORIAN
METHOD:PUBLISH
X-WR-CALNAME:Ballarat Regional Multicultural Council
X-ORIGINAL-URL:https://www.brmc.org.au
X-WR-CALDESC:Events for Ballarat Regional Multicultural Council
BEGIN:VTIMEZONE
TZID:Europe/Paris
BEGIN:DAYLIGHT
TZOFFSETFROM:+0100
TZOFFSETTO:+0200
TZNAME:CEST
DTSTART:20190331T010000
END:DAYLIGHT
BEGIN:STANDARD
TZOFFSETFROM:+0200
TZOFFSETTO:+0100
TZNAME:CET
DTSTART:20191027T010000
END:STANDARD
END:VTIMEZONE
BEGIN:VEVENT
DTSTART;VALUE=DATE:20190610
DTEND;VALUE=DATE:20190624
DTSTAMP:20260425T203642
CREATED:20190516T041221Z
LAST-MODIFIED:20190615T025624Z
UID:1152-1560124800-1561334399@www.brmc.org.au
SUMMARY:Without a Roof: The Homeless - Photo Exhibition by Neil Para
DESCRIPTION:A Photo Exhibition by Neil Para \n10 to 23 June 2019\, 10am – 5pm / 7 days a week \nEntrance is FREE – Donations welcome \n
URL:https://www.brmc.org.au/event/without-a-roof-the-homeless-photo-exhibition-by-neil-para/
LOCATION:Ballarat Trades Hall\, 24 Camp St\, Ballarat\, Victoria\, 3350\, Australia
ATTACH;FMTTYPE=image/jpeg:https://www.brmc.org.au/wp-content/uploads/2019/05/Without_a_Roof_-_The_Homeless_-_Photo_Exhibition.jpg
GEO:-37.5610246;143.8595748
X-APPLE-STRUCTURED-LOCATION;VALUE=URI;X-ADDRESS=Ballarat Trades Hall 24 Camp St Ballarat Victoria 3350 Australia;X-APPLE-RADIUS=500;X-TITLE=24 Camp St:geo:143.8595748,-37.5610246
END:VEVENT
END:VCALENDAR