BEGIN:VCALENDAR
VERSION:2.0
PRODID:-//Ballarat Regional Multicultural Council - ECPv4.9.13//NONSGML v1.0//EN
CALSCALE:GREGORIAN
METHOD:PUBLISH
X-WR-CALNAME:Ballarat Regional Multicultural Council
X-ORIGINAL-URL:https://www.brmc.org.au
X-WR-CALDESC:Events for Ballarat Regional Multicultural Council
BEGIN:VTIMEZONE
TZID:Europe/Paris
BEGIN:DAYLIGHT
TZOFFSETFROM:+0100
TZOFFSETTO:+0200
TZNAME:CEST
DTSTART:20200329T010000
END:DAYLIGHT
BEGIN:STANDARD
TZOFFSETFROM:+0200
TZOFFSETTO:+0100
TZNAME:CET
DTSTART:20201025T010000
END:STANDARD
END:VTIMEZONE
BEGIN:VEVENT
DTSTART;TZID=Europe/Paris:20200204T110000
DTEND;TZID=Europe/Paris:20200204T110000
DTSTAMP:20260425T114104
CREATED:20200131T044635Z
LAST-MODIFIED:20200131T044635Z
UID:2039-1580814000-1580814000@www.brmc.org.au
SUMMARY:World Interfaith Harmony Week: Civic Flag-Raising Ceremony
DESCRIPTION:World Interfaith Harmony Week is an annual event observed during the first week of February. This week is an opportunity for dialogue among different faiths and religions to enhance mutual understanding\, harmony and cooperation among people. \nOrganised by the Ballarat Interfaith Network in collaboration with the City of Ballarat and Ballarat Regional Multicultural Council. \nFeaturing: \n\nPeter Lovett\nIndigenous Acknowledgement of Country & didgeridoo\nMayor Ben Taylor welcome\nBuddhist keynote speaker\nSebastopol Primary School Choir\n\nRefreshments provided. \n
URL:https://www.brmc.org.au/event/world-interfaith-harmony-week-civic-flag-raising-ceremony/
LOCATION:Queen Victoria Square\, Sturt St\, Ballarat\, Victoria\, 3350\, Australia
ATTACH;FMTTYPE=image/jpeg:https://www.brmc.org.au/wp-content/uploads/2020/01/World-Interfaith-Week-2020-e1580445965959.jpg
GEO:-37.561828;143.856768
X-APPLE-STRUCTURED-LOCATION;VALUE=URI;X-ADDRESS=Queen Victoria Square Sturt St Ballarat Victoria 3350 Australia;X-APPLE-RADIUS=500;X-TITLE=Sturt St:geo:143.856768,-37.561828
END:VEVENT
END:VCALENDAR