BEGIN:VCALENDAR
VERSION:2.0
PRODID:-//Ballarat Regional Multicultural Council - ECPv4.9.13//NONSGML v1.0//EN
CALSCALE:GREGORIAN
METHOD:PUBLISH
X-WR-CALNAME:Ballarat Regional Multicultural Council
X-ORIGINAL-URL:https://www.brmc.org.au
X-WR-CALDESC:Events for Ballarat Regional Multicultural Council
BEGIN:VTIMEZONE
TZID:Europe/Paris
BEGIN:DAYLIGHT
TZOFFSETFROM:+0100
TZOFFSETTO:+0200
TZNAME:CEST
DTSTART:20200329T010000
END:DAYLIGHT
BEGIN:STANDARD
TZOFFSETFROM:+0200
TZOFFSETTO:+0100
TZNAME:CET
DTSTART:20201025T010000
END:STANDARD
END:VTIMEZONE
BEGIN:VEVENT
DTSTART;TZID=Europe/Paris:20200818T183000
DTEND;TZID=Europe/Paris:20200818T210000
DTSTAMP:20260425T211212
CREATED:20200818T045832Z
LAST-MODIFIED:20200818T045921Z
UID:2997-1597775400-1597784400@www.brmc.org.au
SUMMARY:Zoom Webinar: Building Stronger Communities during COVID-19
DESCRIPTION:Learn how a volunteer mentor\, skilled in governance\, can partner with your committee or board to help your organisation. \nAttendees will be eligible for 1:1 session(s) with experienced volunteer mentors to discuss your committee’s specific governance concerns. \nTo RSVP and to collect the Zoom log-in details\, contact the Ballarat Regional Coordinator\, Sarabjit at s.kaur@brmc.org.au \n
URL:https://www.brmc.org.au/event/zoom-webinar-building-stronger-communities-during-covid-19/
ATTACH;FMTTYPE=image/jpeg:https://www.brmc.org.au/wp-content/uploads/2020/08/Good-Governance-Building-Stronger-Communities-e1597726695485.jpg
ORGANIZER;CN="Ballarat%20Regional%20Multicultural%20Council%20Inc.%20%28BRMC%29":MAILTO:info@brmc.org.au
END:VEVENT
END:VCALENDAR